BEGIN:VCALENDAR
VERSION:2.0
PRODID:-//ChamberMaster//Event Calendar 2.0//EN
METHOD:PUBLISH
X-PUBLISHED-TTL:P3D
REFRESH-INTERVAL:P3D
CALSCALE:GREGORIAN
BEGIN:VEVENT
DTSTART:20241213T000000Z
DTEND:20241213T023000Z
X-MICROSOFT-CDO-ALLDAYEVENT:FALSE
SUMMARY:Corporate Pinewood Derby
DESCRIPTION:Please join us for an evening of food\, fun\, and fellowship as we invite local businesses to race their own pinewood derby cars! Prizes will be awarded for best in show! Proceeds will benefit the programs of the Northern Lights Council\, Scouting America. Stock Race Typical Scouting rules apply Outlaw No rules on height\, weight\, or propulsion Semi-Truck Special edition "big rig" truck kit
X-ALT-DESC;FMTTYPE=text/html:Please join us for an evening of food\, fun\, and fellowship as we invite local businesses to race their own pinewood derby cars! Prizes will be awarded for best in show! Proceeds will benefit the programs of the Northern Lights Council\, Scouting America. Stock Race Typical Scouting rules apply Outlaw No rules on height\, weight\, or propulsion Semi-Truck Special edition &ldquo\;big rig&rdquo\; truck kit
LOCATION:Schwan Buick GMC of Mandan
UID:e.1803.6443
SEQUENCE:3
DTSTAMP:20260419T162610Z
URL:http://business.bismarckmandan.com/events/details/corporate-pinewood-derby-6443
END:VEVENT

END:VCALENDAR
