BEGIN:VCALENDAR
VERSION:2.0
PRODID:-//ChamberMaster//Event Calendar 2.0//EN
METHOD:PUBLISH
X-PUBLISHED-TTL:P3D
REFRESH-INTERVAL:P3D
CALSCALE:GREGORIAN
BEGIN:VEVENT
DTSTART:20250114T233000Z
DTEND:20250115T010000Z
X-MICROSOFT-CDO-ALLDAYEVENT:FALSE
SUMMARY:GTSB Legacy Social
DESCRIPTION:The University of Mary Gary Tharaldson School of Business is hosting an event to connect ELA and business students with alumni and prominent members of the Bismarck-Mandan community. The goal is to foster relationships between the university and local industry leaders\, while creating a foundation for future ELA classes to build on each year. By establishing this tradition\, we aim to leave a legacy that strengthens collaboration between students\, alumni\, and the business community for years to come.
X-ALT-DESC;FMTTYPE=text/html:The University of Mary Gary Tharaldson School of Business is hosting an event to connect ELA and business students with alumni and prominent members of the Bismarck-Mandan community. The goal is to foster relationships between the university and local industry leaders\, while creating a foundation for future ELA classes to build on each year. By establishing this tradition\, we aim to leave a legacy that strengthens collaboration between students\, alumni\, and the business community for years to come.
LOCATION:University of Mary Gary Tharaldson School of Business
UID:e.1803.6446
SEQUENCE:3
DTSTAMP:20260419T145849Z
URL:http://business.bismarckmandan.com/events/details/gtsb-legacy-social-6446
END:VEVENT

END:VCALENDAR
