BEGIN:VCALENDAR
VERSION:2.0
PRODID:-//ChamberMaster//Event Calendar 2.0//EN
METHOD:PUBLISH
X-PUBLISHED-TTL:P3D
REFRESH-INTERVAL:P3D
CALSCALE:GREGORIAN
BEGIN:VEVENT
DTSTART:20250131T230000Z
DTEND:20250201T010000Z
X-MICROSOFT-CDO-ALLDAYEVENT:FALSE
SUMMARY:Inspire Your Heart with Art 2025
DESCRIPTION:Please share the news and mark your calendars for January 31st and help us celebrate over 20 local artists that we love and have been so fortunate to work with over the years.\n\n \n\nIt all goes down on Inspire Your Heart with Art day\, January 31st\, from 5pm-7pm at Carden Custom Framing!\n\n \n\nBring some friends and/or family and meet some of these talented individuals and enjoy a little snack and beverage
X-ALT-DESC;FMTTYPE=text/html:<div>Please share the news and mark your calendars for January 31st and help us celebrate over 20 local artists that we love and have been so fortunate to work with over the years.<br />\n&nbsp\;</div>\n\n<div>It all goes down on I<a class="x1i10hfl xjbqb8w x1ejq31n xd10rxx x1sy0etr x17r0tee x972fbf xcfux6l x1qhh985 xm0m39n x9f619 x1ypdohk xt0psk2 xe8uvvx xdj266r x11i5rnm xat24cr x1mh8g0r xexx8yu x4uap5 x18d9i69 xkhd6sd x16tdsg8 x1hl2dhg xggy1nq x1a2a7pz x1sur9pj xkrqix3 xzsf02u x1s688f" href="https://www.facebook.com/hashtag/inspireyourheartwithartday?__eep__=6&amp\;__cft__[0]=AZX0JQAsSKFe0cSVVgGVMug0ZM3yq8UFlbq2FAuRdqkO5DkL_20N393c17xgq8sNAJ-c9ECAxZGVQTX19z4xcLMb7Vw4GCoZVUPJOXFqzqfT4oQlNzy0U_BONQgYcFUyKLfwKm0A9NVwj5oazMhkR8-D&amp\;__tn__=q" style="color: var(--primary-text)\; cursor: pointer\; text-decoration-line: none\; list-style: none\; margin: 0px\; text-align: inherit\; border-style: none\; padding: 0px\; box-sizing: border-box\; border-width: 0px\; outline: none\; -webkit-tap-highlight-color: transparent\; font-weight: 600\; touch-action: manipulation\; background-color: transparent\; display: inline\; font-family: inherit\; animation-name: none !important\; transition-property: none !important\;" tabindex="0">nspire Your Heart with Art day</a>\, January 31st\, from 5pm-7pm at Carden Custom Framing!<br />\n&nbsp\;</div>\n\n<div>Bring some friends and/or family and meet some of these talented individuals and enjoy a little snack and beverage</div>\n
LOCATION:301 E Front Ave\, #102\, Bismarck\, ND 58504
UID:e.1803.6493
SEQUENCE:3
DTSTAMP:20260419T150310Z
URL:http://business.bismarckmandan.com/events/details/inspire-your-heart-with-art-2025-01-31-2025-6493
END:VEVENT

END:VCALENDAR
