BEGIN:VCALENDAR
VERSION:2.0
PRODID:-//ChamberMaster//Event Calendar 2.0//EN
METHOD:PUBLISH
X-PUBLISHED-TTL:P3D
REFRESH-INTERVAL:P3D
CALSCALE:GREGORIAN
BEGIN:VEVENT
DTSTART:20231002T230000Z
DTEND:20231003T000000Z
X-MICROSOFT-CDO-ALLDAYEVENT:FALSE
SUMMARY:Intro to Lyra Hoop 4-week course
DESCRIPTION:Jez-Mir-Izing Rock Starz\, our 4-week Intro to Lyra (hoop) course is starting again on Monday\, October 2!\n\nThis is a a 4-week course designed to empower you to Rise Up To Unleashing Your Most Healthy and Confident Self!\n\nEvery Monday (not mon oct 9) in October at 6:00 p.m. you will be conquering and dividing your health and mental wellness goals here with us at Intro to Lyra Hoop!\n\nJoin NOW @ jezmirizing.com. Tickets are $147 (regular price $257). That's ONLY $36.75 per class!\n\nTicket sales end Monday Sept25th!\n\n*This is not a drop in class. If you want drop ins\, visit www.jezmirizing.com for a full class\, course\, spa\, event\, etc. list that we offer here at Jez-Mir-Izing Retreat Center.\n\nSee you soon!\n\n~Amber and Krista
X-ALT-DESC;FMTTYPE=text/html:<div>Jez-Mir-Izing Rock Starz\, our 4-week Intro to Lyra (hoop) course is starting again on Monday\, October 2!</div>\n\n<div>This is a a 4-week course designed to empower you to Rise Up To Unleashing Your Most Healthy and Confident Self!</div>\n\n<div>Every Monday (not mon oct 9) in October at 6:00 p.m. you will be conquering and dividing your health and mental wellness goals here with us at Intro to Lyra Hoop!</div>\n\n<div>Join NOW @&nbsp\;<a class="x1i10hfl xjbqb8w x6umtig x1b1mbwd xaqea5y xav7gou x9f619 x1ypdohk xt0psk2 xe8uvvx xdj266r x11i5rnm xat24cr x1mh8g0r xexx8yu x4uap5 x18d9i69 xkhd6sd x16tdsg8 x1hl2dhg xggy1nq x1a2a7pz xt0b8zv x1fey0fg" href="https://l.facebook.com/l.php?u=http%3A%2F%2Fjezmirizing.com%2F%3Ffbclid%3DIwAR3zMFPLijd2BqiuTKszXzeT35EtMO1WR8zbKdT54ANXyZw7bI5vogqtw0I&amp\;h=AT3JEWQV1AgkBNk1SYhUM4KvaBmb4NwIXYeQwsaL67GmZ7IA5xo2d0aiOxYhbSuD_I-RuIIDznbYCV9hf7MIILkU0TQHj2k_ZZpOzi_-Fgs-OzhYhQOOIucHS1lPa87JVTyZjrs&amp\;__tn__=q&amp\;c[0]=AT3SsqfsglnzVzD-4xHoB56WcApga0eVJysxHI6eOc4j7epAKeDSledhdZ_H55pBA78oZmAIdKs1olznVjpuE1TyOUZbbUkV3j5kA7B0SBxxBElwlJtgEj-iBJJCic8bkG6heeMRISafr9AxzYV5z3xSMUgl" rel="nofollow noreferrer" style="color: var(--blue-link)\; cursor: pointer\; text-decoration-line: none\; border-width: 0px\; border-style: initial\; border-color: initial\; outline: none\; list-style: none\; margin: 0px\; text-align: inherit\; padding: 0px\; -webkit-tap-highlight-color: transparent\; box-sizing: border-box\; touch-action: manipulation\; background-color: transparent\; display: inline\; font-family: inherit\;" tabindex="0" target="_blank">jezmirizing.com.</a>&nbsp\;Tickets are $147 (regular price $257). That&#39\;s ONLY $36.75 per class!</div>\n\n<div>Ticket sales end Monday Sept25th!</div>\n\n<div>*This is not a drop in class. If you want drop ins\, visit&nbsp\;<a class="x1i10hfl xjbqb8w x6umtig x1b1mbwd xaqea5y xav7gou x9f619 x1ypdohk xt0psk2 xe8uvvx xdj266r x11i5rnm xat24cr x1mh8g0r xexx8yu x4uap5 x18d9i69 xkhd6sd x16tdsg8 x1hl2dhg xggy1nq x1a2a7pz xt0b8zv x1fey0fg" href="https://l.facebook.com/l.php?u=http%3A%2F%2Fwww.jezmirizing.com%2F%3Ffbclid%3DIwAR3UHtZCxJ_3XfyQWwYCYyIdet0jvO3HVR_ob6VS4p7YRoRHjhoP-JWzChU&amp\;h=AT0sLD2cysHmz0AARGBceyZaFL4MnVUl4RmGUJbsZerGlMN5FSR0h1F7MRuHA6TGR-mJsU93AZ4hc0JgwFtpAwgINPRsne__UNGIX9xA-Rij01_gj1Z8c_S9SGgVlzssFzCePt8&amp\;__tn__=q&amp\;c[0]=AT3SsqfsglnzVzD-4xHoB56WcApga0eVJysxHI6eOc4j7epAKeDSledhdZ_H55pBA78oZmAIdKs1olznVjpuE1TyOUZbbUkV3j5kA7B0SBxxBElwlJtgEj-iBJJCic8bkG6heeMRISafr9AxzYV5z3xSMUgl" rel="nofollow noreferrer" style="color: var(--blue-link)\; cursor: pointer\; text-decoration-line: none\; border-width: 0px\; border-style: initial\; border-color: initial\; outline: none\; list-style: none\; margin: 0px\; text-align: inherit\; padding: 0px\; -webkit-tap-highlight-color: transparent\; box-sizing: border-box\; touch-action: manipulation\; background-color: transparent\; display: inline\; font-family: inherit\;" tabindex="0" target="_blank">www.jezmirizing.com</a>&nbsp\;for a full class\, course\, spa\, event\, etc. list that we offer here at Jez-Mir-Izing Retreat Center.</div>\n\n<div>See you soon!<br />\n~Amber and Krista</div>\n
LOCATION:Jez-Mir-Izing Retreat Center 1910 80th St. SE Bismarck\, ND 58504
UID:e.1803.5956
SEQUENCE:3
DTSTAMP:20260419T220042Z
URL:http://business.bismarckmandan.com/events/details/intro-to-lyra-hoop-4-week-course-5956
END:VEVENT

END:VCALENDAR
