BEGIN:VCALENDAR
VERSION:2.0
PRODID:-//ChamberMaster//Event Calendar 2.0//EN
METHOD:PUBLISH
X-PUBLISHED-TTL:P3D
REFRESH-INTERVAL:P3D
CALSCALE:GREGORIAN
BEGIN:VEVENT
DTSTART:20241214T000000Z
DTEND:20241215T020000Z
X-MICROSOFT-CDO-ALLDAYEVENT:FALSE
SUMMARY:Kobe’s Christmas Concert
DESCRIPTION:? "we're thrilled to showcase young\, talented musicians from our community! This event is dedicated to creating a joyful experience\, the holiday spirit to our community\, supporting and encouraging our local youth in their musical journey\, by attending you're not just enjoying an evening with music\, you're helping to uplift the dreams and aspirations of budding artists in our area. Alongside the beautiful music\, indulge in a variety of the top rated sushi in town and the unforgettable hibachi experience at Kobe's". Reservations recommended.
X-ALT-DESC;FMTTYPE=text/html:? &ldquo\;we&rsquo\;re thrilled to showcase young\, talented musicians from our community! This event is dedicated to creating a joyful experience\, the holiday spirit to our community\, supporting and encouraging our local youth in their musical journey\, by attending you&rsquo\;re not just enjoying an evening with music\, you&rsquo\;re helping to uplift the dreams and aspirations of budding artists in our area. Alongside the beautiful music\, indulge in a variety of the top rated sushi in town and the unforgettable hibachi experience at Kobe&rsquo\;s&rdquo\;. Reservations recommended.
LOCATION:Kobe's Japanese Steakhouse and Sushi Bar
UID:e.1803.6460
SEQUENCE:3
DTSTAMP:20260419T162902Z
URL:http://business.bismarckmandan.com/events/details/kobe-s-christmas-concert-6460
END:VEVENT

END:VCALENDAR
