BEGIN:VCALENDAR
VERSION:2.0
PRODID:-//ChamberMaster//Event Calendar 2.0//EN
METHOD:PUBLISH
X-PUBLISHED-TTL:P3D
REFRESH-INTERVAL:P3D
CALSCALE:GREGORIAN
BEGIN:VEVENT
DTSTART:20250109T223000Z
DTEND:20250110T003000Z
X-MICROSOFT-CDO-ALLDAYEVENT:FALSE
SUMMARY:Membership Mixer: Interiors by Design
DESCRIPTION:Join us for the January Chamber EDC Membership Mixer Thursday\, January 9th from 4:30-6:30 p.m. hosted by Interiors by Design. End the business day by mingling with other business professionals and enjoying a selection of appetizers and refreshments.\n\n\n\nMixers are free for Chamber EDC members to attend. No RSVP necessary!
X-ALT-DESC;FMTTYPE=text/html:Join us for the January Chamber EDC Membership Mixer Thursday\, January 9th from 4:30-6:30 p.m. hosted by Interiors by Design. End the business day by mingling with other business professionals and enjoying a selection of appetizers and refreshments.<br />\n<br />\nMixers are free for Chamber EDC members to attend. No RSVP necessary!
LOCATION:Interiors by Design 322 N 26th St.\, Bismarck
UID:e.1803.6476
SEQUENCE:3
DTSTAMP:20260419T145751Z
URL:http://business.bismarckmandan.com/events/details/membership-mixer-interiors-by-design-6476
END:VEVENT

END:VCALENDAR
