BEGIN:VCALENDAR
VERSION:2.0
PRODID:-//ChamberMaster//Event Calendar 2.0//EN
METHOD:PUBLISH
X-PUBLISHED-TTL:P3D
REFRESH-INTERVAL:P3D
CALSCALE:GREGORIAN
BEGIN:VEVENT
DTSTART:20180221T143000Z
DTEND:20180221T213000Z
X-MICROSOFT-CDO-ALLDAYEVENT:FALSE
SUMMARY:ND Afterschool Summit
DESCRIPTION:This Summit aims to open the eyes of North Dakotans to the world of out-of-school-time programming and the important role it plays in shaping the lives of our school-age youth. It also allows N.D. Afterschool Network to grow in its mission of supporting and advocating for high-quality\, out-of-school-time programming\, resources\, and services for school-age youth. This year's event will have a focus on workforce skills development\, mental health\, and STEM (highlighting the connection between education and business).
X-ALT-DESC;FMTTYPE=text/html:This Summit aims to open the eyes of North Dakotans to the world of out-of-school-time programming and the important role it plays in shaping the lives of our school-age youth. It also allows N.D. Afterschool Network to grow in its mission of supporting and advocating for high-quality\, out-of-school-time programming\, resources\, and services for school-age youth. This year&rsquo\;s event will have a focus on workforce skills development\, mental health\, and STEM (highlighting the connection between education and business).
LOCATION:Bismarck Career Academy
UID:e.1803.4001
SEQUENCE:3
DTSTAMP:20260421T232021Z
URL:http://business.bismarckmandan.com/events/details/nd-afterschool-summit-02-21-2018-4001
END:VEVENT

END:VCALENDAR
