BEGIN:VCALENDAR
VERSION:2.0
PRODID:-//ChamberMaster//Event Calendar 2.0//EN
METHOD:PUBLISH
X-PUBLISHED-TTL:P3D
REFRESH-INTERVAL:P3D
CALSCALE:GREGORIAN
BEGIN:VEVENT
DTSTART:20250129T000000Z
DTEND:20250129T013000Z
X-MICROSOFT-CDO-ALLDAYEVENT:FALSE
SUMMARY:Teen Grief Workshop
DESCRIPTION:Please join us for a hands-on workshop for 6th-12th grade students. This workshop is designed to help teens make sense of grief and loss and will be facilitated by Hospice of the Red River Valley Grief Specialist\, Sara Schwarz. Please register here: https://www.hrrv.org/grief-support/monthly-grief-class-schedule/
X-ALT-DESC;FMTTYPE=text/html:Please join us for a hands-on workshop for 6th-12th grade students. This workshop is designed to help teens make sense of grief and loss and will be facilitated by Hospice of the Red River Valley Grief Specialist\, Sara Schwarz. Please register here: https://www.hrrv.org/grief-support/monthly-grief-class-schedule/
LOCATION:Bismarck Veterans Memorial Library\; 515 N. 5th St.\, Bismarck\, ND 58501
UID:e.1803.6475
SEQUENCE:3
DTSTAMP:20260419T150115Z
URL:http://business.bismarckmandan.com/events/details/teen-grief-workshop-01-28-2025-6475
END:VEVENT

END:VCALENDAR
