BEGIN:VCALENDAR
VERSION:2.0
PRODID:-//ChamberMaster//Event Calendar 2.0//EN
METHOD:PUBLISH
X-PUBLISHED-TTL:P3D
REFRESH-INTERVAL:P3D
CALSCALE:GREGORIAN
BEGIN:VEVENT
DTSTART:20210808T150000Z
DTEND:20210808T210000Z
X-MICROSOFT-CDO-ALLDAYEVENT:FALSE
SUMMARY:47th Annual Capital A'Fair
DESCRIPTION:One of the area's largest summer art fairs held on the Capitol Mall.  It features over 100 artisan & food vendors from across the country.  Performances on stage this year include Cottonwood\, the Waddington Brothers\, Wayde Schafer\, Rock'n Cloggers and more!
X-ALT-DESC;FMTTYPE=text/html:<span style="font-family:cambria\,serif"><span style="font-size:12.0pt">One of the area&rsquo\;s largest summer art fairs held on the Capitol Mall.&nbsp\; It features over 100 artisan &amp\; food vendors from across the country.&nbsp\; Performances on stage this year include Cottonwood\, the Waddington Brothers\, Wayde Schafer\, Rock&#39\;n Cloggers and more!&nbsp\;&nbsp\;</span></span>
LOCATION:ND Capitol Grounds\, 500 East Boulevard Avenue
UID:e.1803.5195
SEQUENCE:3
DTSTAMP:20260421T130042Z
URL:https://business.bismarckmandan.com/events/details/47th-annual-capital-a-fair-5195
END:VEVENT

END:VCALENDAR
