BEGIN:VCALENDAR
VERSION:2.0
PRODID:-//ChamberMaster//Event Calendar 2.0//EN
METHOD:PUBLISH
X-PUBLISHED-TTL:P3D
REFRESH-INTERVAL:P3D
CALSCALE:GREGORIAN
BEGIN:VEVENT
DTSTART:20230531T160000Z
DTEND:20230531T190000Z
X-MICROSOFT-CDO-ALLDAYEVENT:FALSE
SUMMARY:AARP Hiking Day Trip: Fort Ransom State Park
DESCRIPTION:Join AARP ND for the first of five hiking day trips to five different parks this summer. Explore with others\, get some exercise and enjoy nature this summer! Register for one or every hike at aarp.cvent.com/NDHiking23.
X-ALT-DESC;FMTTYPE=text/html:<span style="font-size:16px"><span style="color:rgb(42\, 42\, 42)\; font-family:ff-dagny-web-pro\,sans-serif">Join AARP ND for the first of five hiking day trips to five different parks this summer. Explore with others\, get some exercise and enjoy nature this summer! <a class="Link" href="https://aarp.cvent.com/c/calendar/89edb141-2774-4d69-9c87-f85dcb0d2a6c" rel="noopener noreferrer" style="box-sizing: border-box\; -webkit-font-smoothing: antialiased\; background: 0px 0px transparent\; color: var(--linkTextColor)\; text-decoration-line: none\;" target="_blank">Register for one or every hike</a>&nbsp\;at&nbsp\;</span>aarp.cvent.com/NDHiking23.</span>
LOCATION:Fort Ransom State Park Fort Ransom\, North Dakota
UID:e.1803.5855
SEQUENCE:3
DTSTAMP:20260425T112217Z
URL:https://business.bismarckmandan.com/events/details/aarp-hiking-day-trip-fort-ransom-state-park-5855
END:VEVENT

END:VCALENDAR
