BEGIN:VCALENDAR
VERSION:2.0
PRODID:-//ChamberMaster//Event Calendar 2.0//EN
METHOD:PUBLISH
X-PUBLISHED-TTL:P3D
REFRESH-INTERVAL:P3D
CALSCALE:GREGORIAN
BEGIN:VEVENT
DTSTART:20210821T160000Z
DTEND:20210821T200000Z
X-MICROSOFT-CDO-ALLDAYEVENT:FALSE
SUMMARY:ABRA Community Days
DESCRIPTION:Join us at Abra Auto Body on the corner of Airport Road and Bismarck Expressway for a Community Day on Saturday\, August 21st from 11am-3pm! Register for the car show or to be a vendor by August 1st. This event is to benefit the Dream Center Bismarck. The day will consist of the car show\, local vendors to shop from\, a kid's corner\, and concessions!
X-ALT-DESC;FMTTYPE=text/html:Join us at Abra Auto Body on the corner of Airport Road and Bismarck Expressway for a Community Day on Saturday\, August 21st from 11am-3pm! Register for the car show or to be a vendor by August 1st. This event is to benefit the Dream Center Bismarck. The day will consist of the car show\, local vendors to shop from\, a kid&rsquo\;s corner\, and concessions!
LOCATION:Abra Auto Body Repair of America 1901 E Bismarck Expy\, Bismarck\, ND 58504
UID:e.1803.5210
SEQUENCE:3
DTSTAMP:20260421T125815Z
URL:https://business.bismarckmandan.com/events/details/abra-community-days-5210
END:VEVENT

END:VCALENDAR
