BEGIN:VCALENDAR
VERSION:2.0
PRODID:-//ChamberMaster//Event Calendar 2.0//EN
METHOD:PUBLISH
X-PUBLISHED-TTL:P3D
REFRESH-INTERVAL:P3D
CALSCALE:GREGORIAN
BEGIN:VEVENT
DTSTART:20240501T213000Z
DTEND:20240502T003000Z
X-MICROSOFT-CDO-ALLDAYEVENT:FALSE
SUMMARY:Aviation Social at Bismarck Aero Center
DESCRIPTION:Join us for an Aviation Social\, May 1st! We will be celebrating the completion of our newest hangar addition\, displaying a new Cirrus Aircraft SR-22 and have the latest from Garmin. This is open to the public and free to attend.\n\nDrinks and appetizers will be served until they run out.\n\nRibbon Cutting for new hangars 4:45pm\n\nGarmin Presentation 6pm
X-ALT-DESC;FMTTYPE=text/html:<div>Join us for an Aviation Social\, May 1st! We will be celebrating the completion of our newest hangar addition\, displaying a new Cirrus Aircraft SR-22 and have the latest from Garmin. This is open to the public and free to attend.</div>\n\n<div>Drinks and appetizers will be served until they run out.</div>\n\n<div>Ribbon Cutting for new hangars 4:45pm<br />\nGarmin Presentation 6pm</div>\n
LOCATION:Bismarck Aero Center Hangar 6D Our newest addition to the Bismarck Airport on the North end of the Airport
UID:e.1803.6279
SEQUENCE:3
DTSTAMP:20260421T124322Z
URL:https://business.bismarckmandan.com/events/details/aviation-social-at-bismarck-aero-center-6279
END:VEVENT

END:VCALENDAR
