BEGIN:VCALENDAR
VERSION:2.0
PRODID:-//ChamberMaster//Event Calendar 2.0//EN
METHOD:PUBLISH
X-PUBLISHED-TTL:P3D
REFRESH-INTERVAL:P3D
CALSCALE:GREGORIAN
BEGIN:VEVENT
DTSTART;VALUE=DATE:20240718
DTEND;VALUE=DATE:20240722
TRANSP:TRANSPARENT
X-MICROSOFT-CDO-ALLDAYEVENT:TRUE
SUMMARY:Badlands Chataqua: A Gathering of Teddys
DESCRIPTION:Join us as Theodore Roosevelt and Roosevelt family reprisors gather for a weekend of programs\, fun\, education\, and entertainment in Medora\, ND. Take in Teddy's legacy in the place where T.R. once lived\, ranched\, and adventured!
X-ALT-DESC;FMTTYPE=text/html:Join us as Theodore Roosevelt and Roosevelt family reprisors gather for a weekend of programs\, fun\, education\, and entertainment in Medora\, ND. Take in Teddy&#39\;s legacy in the place where T.R. once lived\, ranched\, and adventured!&nbsp\;
LOCATION:Medora\, North Dakota
UID:e.1803.6416
SEQUENCE:3
DTSTAMP:20260419T213328Z
URL:https://business.bismarckmandan.com/events/details/badlands-chataqua-a-gathering-of-teddys-6416
END:VEVENT

END:VCALENDAR
