BEGIN:VCALENDAR
VERSION:2.0
PRODID:-//ChamberMaster//Event Calendar 2.0//EN
METHOD:PUBLISH
X-PUBLISHED-TTL:P3D
REFRESH-INTERVAL:P3D
CALSCALE:GREGORIAN
BEGIN:VEVENT
DTSTART:20210830T213000Z
DTEND:20210830T230000Z
X-MICROSOFT-CDO-ALLDAYEVENT:FALSE
SUMMARY:Benefit Auction Locally handmade quilts
DESCRIPTION:Dakota Center for Independent Living 4th annual auction. Locally handmade quilts will be auctioned on line through TEMCHACKAUCTIONSLLC website go to upcoming auctions and view the quilts starting Aug 10th and online bidding starts. Come to the Bismarck Eagles to bid in person and view the quilts at 4pm bidding starts at 6pm.
X-ALT-DESC;FMTTYPE=text/html:Dakota Center for Independent Living 4th annual auction. Locally handmade quilts will be auctioned on line through TEMCHACKAUCTIONSLLC website go to upcoming auctions and view the quilts starting Aug 10th and online bidding starts. Come to the Bismarck Eagles to bid in person and view the quilts at 4pm bidding starts at 6pm.
LOCATION:Bismarck Eagles 313 Nth 26th St Bismarck\, ND 58501
UID:e.1803.5190
SEQUENCE:3
DTSTAMP:20260421T130201Z
URL:https://business.bismarckmandan.com/events/details/benefit-auction-locally-handmade-quilts-5190
END:VEVENT

END:VCALENDAR
