BEGIN:VCALENDAR
VERSION:2.0
PRODID:-//ChamberMaster//Event Calendar 2.0//EN
METHOD:PUBLISH
X-PUBLISHED-TTL:P3D
REFRESH-INTERVAL:P3D
CALSCALE:GREGORIAN
BEGIN:VEVENT
DTSTART:20210815T173000Z
DTEND:20210815T200000Z
X-MICROSOFT-CDO-ALLDAYEVENT:FALSE
SUMMARY:Bismarck Doll Friends Doll Show/Sale
DESCRIPTION:Bismarck Doll Friends 15th Annual Doll Show/Sale Dolls from Antique to Modern plus clothing and accessories for sale. Door prize to be given away at show. Doll note cards also for sale
X-ALT-DESC;FMTTYPE=text/html:Bismarck Doll Friends 15th Annual Doll Show/Sale Dolls from Antique to Modern plus clothing and accessories for sale. Door prize to be given away at show. Doll note cards also for sale
LOCATION:Bismarck Municipal Country Club 930 North Griffin Street Bismarck\, ND
UID:e.1803.5157
SEQUENCE:3
DTSTAMP:20260421T130833Z
URL:https://business.bismarckmandan.com/events/details/bismarck-doll-friends-doll-show-sale-5157
END:VEVENT

END:VCALENDAR
