BEGIN:VCALENDAR
VERSION:2.0
PRODID:-//ChamberMaster//Event Calendar 2.0//EN
METHOD:PUBLISH
X-PUBLISHED-TTL:P3D
REFRESH-INTERVAL:P3D
CALSCALE:GREGORIAN
BEGIN:VEVENT
DTSTART:20210912T130000Z
DTEND:20210912T180000Z
X-MICROSOFT-CDO-ALLDAYEVENT:FALSE
SUMMARY:Bismarck Fly-In & Drive-In
DESCRIPTION:We are hosting the 10th annual Bismarck Fly-In & Drive-In. It's an aviation event where people can eat free pancakes and look at cool airplanes. This year's should be a pretty big event.
X-ALT-DESC;FMTTYPE=text/html:We are hosting the 10th annual Bismarck Fly-In &amp\; Drive-In. It&#39\;s an aviation event where people can eat free pancakes and look at cool airplanes. This year&#39\;s should be a pretty big event.
LOCATION:Bismarck Aero Center 2301 University Dr Bldg 53\, Bismarck\, ND 58504
UID:e.1803.5193
SEQUENCE:3
DTSTAMP:20260421T161710Z
URL:https://business.bismarckmandan.com/events/details/bismarck-fly-in-drive-in-5193
END:VEVENT

END:VCALENDAR
