BEGIN:VCALENDAR
VERSION:2.0
PRODID:-//ChamberMaster//Event Calendar 2.0//EN
METHOD:PUBLISH
X-PUBLISHED-TTL:P3D
REFRESH-INTERVAL:P3D
CALSCALE:GREGORIAN
BEGIN:VEVENT
DTSTART:20210911T140000Z
DTEND:20210911T160000Z
X-MICROSOFT-CDO-ALLDAYEVENT:FALSE
SUMMARY:Bismarck Walk to End Alzheimer’s
DESCRIPTION:Join us for the annual Bismarck Walk to End Alzheimer's! Held annually in more than 600 communities nationwide\, the Alzheimer's Association Walk to End Alzheimer's  is the world's largest fundraiser for Alzheimer's care\, support and research. This inspiring event calls on participants of all ages and abilities to join the fight against the disease. While there is no fee to register for Walk\, all participants are encouraged to raise critical funds that allow the Alzheimer's Association to provide 24/7 care and support and advance research toward methods of prevention\, treatment and\, ultimately\, a cure. The Alzheimer's Association leads the way to end Alzheimer's and all other dementia   by accelerating global research\, driving risk reduction and early detection\, and maximizing quality care and support. We're walking to support a world without Alzheimer's and all other dementia and we invite you to join us!
X-ALT-DESC;FMTTYPE=text/html:Join us for the annual Bismarck Walk to End Alzheimer&rsquo\;s! Held annually in more than 600 communities nationwide\, the Alzheimer&#39\;s Association Walk to End Alzheimer&#39\;s&reg\; is the world&#39\;s largest fundraiser for Alzheimer&#39\;s care\, support and research. This inspiring event calls on participants of all ages and abilities to join the fight against the disease. While there is no fee to register for Walk\, all participants are encouraged to raise critical funds that allow the Alzheimer&rsquo\;s Association to provide 24/7 care and support and advance research toward methods of prevention\, treatment and\, ultimately\, a cure. The Alzheimer&#39\;s Association leads the way to end Alzheimer&#39\;s and all other dementia &mdash\; by accelerating global research\, driving risk reduction and early detection\, and maximizing quality care and support. We&rsquo\;re walking to support a world without Alzheimer&rsquo\;s and all other dementia and we invite you to join us!
LOCATION:Sertoma Park
UID:e.1803.5122
SEQUENCE:3
DTSTAMP:20260421T143907Z
URL:https://business.bismarckmandan.com/events/details/bismarck-walk-to-end-alzheimer-s-5122
END:VEVENT

END:VCALENDAR
