BEGIN:VCALENDAR
VERSION:2.0
PRODID:-//ChamberMaster//Event Calendar 2.0//EN
METHOD:PUBLISH
X-PUBLISHED-TTL:P3D
REFRESH-INTERVAL:P3D
CALSCALE:GREGORIAN
BEGIN:VEVENT
DTSTART:20240723T003000Z
DTEND:20240723T030000Z
X-MICROSOFT-CDO-ALLDAYEVENT:FALSE
SUMMARY:BlackHawk LIVE in Medora\, ND
DESCRIPTION:We're filling the Badlands with country hits! For more than 20 years\, BlackHawk has shared a unique sense of harmony with their voices\, their songs and their fans   scoring some of the most distinctive country radio hits of the '90s.\n\n\n\nNow catch the remaining members bring back their nostalgic hits with "Goodbye Says It All\," "Every Once In A While\," and "I'm Not Strong Enough to Say No\," and more.\n\n\n\nCatch the concert at the Burning Hills Amphitheatre in Medora\, ND on Monday\, July 22. Tickets start at $29 + tax and fees
X-ALT-DESC;FMTTYPE=text/html:<span style="font-family:tahoma\; font-size:14px">We&#39\;re filling the Badlands with country hits!&nbsp\;</span><span style="color:rgb(57\, 34\, 16)\; font-family:tahoma\; font-size:14px">For more than 20 years\, BlackHawk has shared a unique sense of harmony with their voices\, their songs and their fans &ndash\; scoring some of the most distinctive country radio hits of the &lsquo\;90s.</span><br />\n<br />\n<span style="color:rgb(57\, 34\, 16)\; font-family:tahoma\; font-size:14px">Now catch the remaining members bring back their nostalgic hits with &ldquo\;Goodbye Says It All\,&rdquo\; &ldquo\;Every Once In A While\,&rdquo\; and &ldquo\;I&rsquo\;m Not Strong Enough to Say No\,&rdquo\; and more.<br />\n<br />\nCatch the concert at the Burning Hills Amphitheatre in Medora\, ND on Monday\, July 22. Tickets start at $29 + tax and fees</span>
LOCATION:Burning Hills Amphitheatre in Medora\, North Dakota
UID:e.1803.6417
SEQUENCE:3
DTSTAMP:20260419T214424Z
URL:https://business.bismarckmandan.com/events/details/blackhawk-live-in-medora-nd-6417
END:VEVENT

END:VCALENDAR
