BEGIN:VCALENDAR
VERSION:2.0
PRODID:-//ChamberMaster//Event Calendar 2.0//EN
METHOD:PUBLISH
X-PUBLISHED-TTL:P3D
REFRESH-INTERVAL:P3D
CALSCALE:GREGORIAN
BEGIN:VEVENT
DTSTART:20251023T123000Z
DTEND:20251023T140000Z
X-MICROSOFT-CDO-ALLDAYEVENT:FALSE
SUMMARY:Business & Charity Breakfast Social
DESCRIPTION:You're Invited: Business & Charity Breakfast Social\n\nOctober 23rd | 7:30 AM   9:00 AM\n\nSend It! 24/7 Cornhole\n\n\n\nJoin us for a meaningful morning of connection at our Chamber EDC Business & Charity Breakfast Social. This event brings together Chamber EDC members both nonprofit and for-profit for networking\, relationship-building\, and community impact.\n\n\n\nWhether you're a business looking to align with a local cause or a nonprofit eager to share your mission\, this is a chance to connect\, learn\, and explore meaningful partnerships for the year ahead.\n\n\n\nThis event is generously sponsored by Dakota Medical Foundation's Giving Hearts Day. Bismarck lead Deidre Hillman will give a brief presentation on how to use the Giving Hearts Day platform to discover local charities whose missions align with your business values. \n\n\n\nIf your organization loves to give back to non-profits be it volunteering or financially and wants to learn how to multiply your giving through Giving Hearts Day\, come hear how these incredible organizations are filling the gaps\, lifting others up\, and helping keep our region Moving Business Forward.\n\n\n\nFree to attend. Coffee and light breakfast provided.
X-ALT-DESC;FMTTYPE=text/html:You&#39\;re Invited: Business &amp\; Charity Breakfast Social<br />\nOctober 23rd | 7:30 AM &ndash\; 9:00 AM<br />\nSend It! 24/7 Cornhole<br />\n<br />\nJoin us for a meaningful morning of connection at our Chamber EDC Business &amp\; Charity Breakfast Social. This event brings together Chamber EDC members both nonprofit and for-profit for networking\, relationship-building\, and community impact.<br />\n<br />\nWhether you&#39\;re a business looking to align with a local cause or a nonprofit eager to share your mission\, this is a chance to connect\, learn\, and explore meaningful partnerships for the year ahead.<br />\n<br />\nThis event is generously sponsored by Dakota Medical Foundation&#39\;s Giving Hearts Day. Bismarck lead Deidre Hillman will give a brief presentation on how to use the Giving Hearts Day platform to discover local charities whose missions align with your business values.&nbsp\;<br />\n<br />\nIf your organization loves to give back to non-profits be it volunteering or financially and wants to learn how to multiply your giving through Giving Hearts Day\, come hear how these incredible organizations are filling the gaps\, lifting others up\, and helping keep our region Moving Business Forward.<br />\n<br />\nFree to attend. Coffee and light breakfast provided.
LOCATION:Send It! 24/7 Cornhole
UID:e.1803.6594
SEQUENCE:3
DTSTAMP:20260422T090108Z
URL:https://business.bismarckmandan.com/events/details/business-charity-breakfast-social-6594
END:VEVENT

END:VCALENDAR
