BEGIN:VCALENDAR
VERSION:2.0
PRODID:-//ChamberMaster//Event Calendar 2.0//EN
METHOD:PUBLISH
X-PUBLISHED-TTL:P3D
REFRESH-INTERVAL:P3D
CALSCALE:GREGORIAN
BEGIN:VEVENT
DTSTART:20210513T213000Z
DTEND:20210513T233000Z
X-MICROSOFT-CDO-ALLDAYEVENT:FALSE
SUMMARY:CANCELED--Membership Mixer: Holiday Inn-- CANCELED
DESCRIPTION:CANCELED
X-ALT-DESC;FMTTYPE=text/html:<strong>CANCELED</strong>
LOCATION:CANCELED
UID:e.1803.4728
SEQUENCE:3
DTSTAMP:20260421T113737Z
URL:https://business.bismarckmandan.com/events/details/canceled-membership-mixer-holiday-inn-canceled-4728
END:VEVENT

END:VCALENDAR
