BEGIN:VCALENDAR
VERSION:2.0
PRODID:-//ChamberMaster//Event Calendar 2.0//EN
METHOD:PUBLISH
X-PUBLISHED-TTL:P3D
REFRESH-INTERVAL:P3D
CALSCALE:GREGORIAN
BEGIN:VEVENT
DTSTART:20230503T210000Z
DTEND:20230503T230000Z
X-MICROSOFT-CDO-ALLDAYEVENT:FALSE
SUMMARY:Central Dakota Children’s Choir Holds Auditions
DESCRIPTION:Central Dakota Children's Choir\, a choir of over 300 talented young choristers\, is holding auditions for the 2023-2024 season on May 3rd and 4th at the Bismarck Veteran's Memorial Library. Central Dakota Children's Choir welcomes students from public\, private and home schools. No previous vocal training or experience needed. Auditions are open to students currently in grades 2 - 11. Students currently in grades 2-5 will audition from 4:00-5:30pm. Students currently in grades 6-11 will audition from 5:30-6:00pm. For more information and to reserve an audition time\, call the choir office at 258-6516 or visit the website at aboutcdcc.org.
X-ALT-DESC;FMTTYPE=text/html:Central Dakota Children&rsquo\;s Choir\, a choir of over 300 talented young choristers\, is holding auditions for the 2023-2024 season on May 3rd and 4th at the Bismarck Veteran&#39\;s Memorial Library. Central Dakota Children&rsquo\;s Choir welcomes students from public\, private and home schools. No previous vocal training or experience needed. Auditions are open to students currently in grades 2 - 11. Students currently in grades 2-5 will audition from 4:00-5:30pm. Students currently in grades 6-11 will audition from 5:30-6:00pm. For more information and to reserve an audition time\, call the choir office at 258-6516 or visit the website at aboutcdcc.org.
LOCATION:Bismarck Veterans Memorial Library
UID:e.1803.5782
SEQUENCE:3
DTSTAMP:20260425T112524Z
URL:https://business.bismarckmandan.com/events/details/central-dakota-children-s-choir-holds-auditions-05-03-2023-5782
END:VEVENT

END:VCALENDAR
