BEGIN:VCALENDAR
VERSION:2.0
PRODID:-//ChamberMaster//Event Calendar 2.0//EN
METHOD:PUBLISH
X-PUBLISHED-TTL:P3D
REFRESH-INTERVAL:P3D
CALSCALE:GREGORIAN
BEGIN:VEVENT
DTSTART:20231217T220000Z
DTEND:20231217T233000Z
X-MICROSOFT-CDO-ALLDAYEVENT:FALSE
SUMMARY:Christmas Lessons and Carols
DESCRIPTION:Dakota Pro Musica presents a traditional service of Nine Lessons and Carols in partnership with McCabe United Methodist Church in Bismarck. Traditional music and carols with scripture and prayers are used to create a beautiful and meditative experience.  Concert is FREE with a reception after the concert.
X-ALT-DESC;FMTTYPE=text/html:<span style="color:rgb(5\, 5\, 5)\; font-family:segoe ui historic\,segoe ui\,helvetica\,arial\,sans-serif\; font-size:15px">Dakota Pro Musica presents a traditional service of Nine Lessons and Carols in partnership with McCabe United Methodist Church in Bismarck. Traditional music and carols with scripture and prayers are used to create a beautiful and meditative experience.&nbsp\; Concert is FREE with a reception after the concert.</span>
LOCATION:McCabe United Methodist Church\, Bismarck
UID:e.1803.6149
SEQUENCE:3
DTSTAMP:20260424T173612Z
URL:https://business.bismarckmandan.com/events/details/christmas-lessons-and-carols-6149
END:VEVENT

END:VCALENDAR
