BEGIN:VCALENDAR
VERSION:2.0
PRODID:-//ChamberMaster//Event Calendar 2.0//EN
METHOD:PUBLISH
X-PUBLISHED-TTL:P3D
REFRESH-INTERVAL:P3D
CALSCALE:GREGORIAN
BEGIN:VEVENT
DTSTART:20230511T133000Z
DTEND:20230511T213000Z
X-MICROSOFT-CDO-ALLDAYEVENT:FALSE
SUMMARY:Communicate Stronger 2023: Better Every Day
DESCRIPTION:Communicate Stronger is an event for communications professionals and others who want to expand their knowledge and their network. If you're looking for fresh strategies to up your content game and connect with your audience\, join us. L?earn more about our speakers and sessions at www.greatplainsiabc.com/conference.
X-ALT-DESC;FMTTYPE=text/html:Communicate Stronger is an event for communications professionals and others who want to expand their knowledge and their network. If you&rsquo\;re looking for fresh strategies to up your content game and connect with your audience\, join us. L?earn more about our speakers and sessions at www.greatplainsiabc.com/conference.
LOCATION:North Dakota Heritage Center 612 E. Boulevard Ave. Bismarck\, ND 58505
UID:e.1803.5759
SEQUENCE:3
DTSTAMP:20260425T111801Z
URL:https://business.bismarckmandan.com/events/details/communicate-stronger-2023-better-every-day-5759
END:VEVENT

END:VCALENDAR
