BEGIN:VCALENDAR
VERSION:2.0
PRODID:-//ChamberMaster//Event Calendar 2.0//EN
METHOD:PUBLISH
X-PUBLISHED-TTL:P3D
REFRESH-INTERVAL:P3D
CALSCALE:GREGORIAN
BEGIN:VEVENT
DTSTART:20230513T150000Z
DTEND:20230513T213000Z
X-MICROSOFT-CDO-ALLDAYEVENT:FALSE
SUMMARY:Corrected: State Archives Open
DESCRIPTION:State Archives is open the second Saturday of each month from 10 a.m. to 4:30 p.m. Appointments are recommended. Please call 701.328.2091 or email archives@nd.gov to schedule your appointment.
X-ALT-DESC;FMTTYPE=text/html:State Archives is open the second Saturday of each month from 10 a.m. to 4:30 p.m. Appointments are recommended. Please call 701.328.2091 or email archives@nd.gov to schedule your appointment.
LOCATION:North Dakota Heritage Center & State Museum 612 East Boulevard Avenue Bismarck ND 58505
UID:e.1803.5815
SEQUENCE:3
DTSTAMP:20260425T111725Z
URL:https://business.bismarckmandan.com/events/details/corrected-state-archives-open-5815
END:VEVENT

END:VCALENDAR
