BEGIN:VCALENDAR
VERSION:2.0
PRODID:-//ChamberMaster//Event Calendar 2.0//EN
METHOD:PUBLISH
X-PUBLISHED-TTL:P3D
REFRESH-INTERVAL:P3D
CALSCALE:GREGORIAN
BEGIN:VEVENT
DTSTART;VALUE=DATE:20210501
DTEND;VALUE=DATE:20210530
TRANSP:TRANSPARENT
X-MICROSOFT-CDO-ALLDAYEVENT:TRUE
SUMMARY:Cystic Fibrosis Classic American
DESCRIPTION:Throughout the month of May for every Classic American Burger sold Station West Bar & Grill will donate $1 to the Cystic Fibrosis Foundation.
X-ALT-DESC;FMTTYPE=text/html:Throughout the month of May for every Classic American Burger sold Station West Bar &amp\; Grill will donate $1 to the Cystic Fibrosis Foundation.
LOCATION:Station West Bar & Grill 412 West Main Street Mandan\, ND 58554
UID:e.1803.5150
SEQUENCE:3
DTSTAMP:20260421T130412Z
URL:https://business.bismarckmandan.com/events/details/cystic-fibrosis-classic-american-5150
END:VEVENT

END:VCALENDAR
