BEGIN:VCALENDAR
VERSION:2.0
PRODID:-//ChamberMaster//Event Calendar 2.0//EN
METHOD:PUBLISH
X-PUBLISHED-TTL:P3D
REFRESH-INTERVAL:P3D
CALSCALE:GREGORIAN
BEGIN:VEVENT
DTSTART:20230520T000000Z
DTEND:20230520T030000Z
X-MICROSOFT-CDO-ALLDAYEVENT:FALSE
SUMMARY:Dacotah Speedway Weekly Racing
DESCRIPTION:Join us for the Mandan Dirt Series on Friday\, May 19th!\n\nGRANDSTAND ADMISSION:\n\nAdults: $13.00\n\nKids 12 & Under: FREE\n\nRACING DIVISIONS THIS WEEK:\n\nIMCA Modifieds\n\nWISSOTA Street Stocks\n\nINEX Legends\n\nHobby Stocks\n\nIMCA Sport Compacts\n\nTIMES:\n\nPit Gates Open: 5:00pm\n\nGrandstands: 6:00pm\n\nDraw Cutoff: 6:15pm\n\nRacing Starts: 7:00pm\n\nORDER OF EVENTS:\n\nHeat Races:\n\nHobby Stocks\n\nIMCA Sport Compacts\n\nINEX Legends\n\nWISSOTA Street Stocks\n\nIMCA Modifieds\n\nB-Mains if Needed\n\nFeatures:\n\nHobby Stocks (15 Laps)\n\nIMCA Sport Compacts\n\nINEX Legends (20 Laps)\n\nWISSOTA Street Stocks (20 Laps)\n\nIMCA Modifieds (25 Laps)\n\nCAMPING:\n\nMake your camping reservation by calling 701-202-8315.
X-ALT-DESC;FMTTYPE=text/html:<p style="box-sizing: border-box\; margin-top: 0px\; margin-bottom: 1rem\; font-size: 14px\; line-height: 22px\; word-break: break-word\; color: rgb(21\, 21\, 30)\; font-family: Arial\, Helvetica\, sans-serif\;">Join us for the Mandan Dirt Series on Friday\, May 19th!</p>\n\n<p style="box-sizing: border-box\; margin-top: 0px\; margin-bottom: 1rem\; font-size: 14px\; line-height: 22px\; word-break: break-word\; color: rgb(21\, 21\, 30)\; font-family: Arial\, Helvetica\, sans-serif\;">GRANDSTAND ADMISSION:<br style="box-sizing: border-box\;" />\nAdults: $13.00<br style="box-sizing: border-box\;" />\nKids 12 &amp\; Under: FREE</p>\n\n<p style="box-sizing: border-box\; margin-top: 0px\; margin-bottom: 1rem\; font-size: 14px\; line-height: 22px\; word-break: break-word\; color: rgb(21\, 21\, 30)\; font-family: Arial\, Helvetica\, sans-serif\;">RACING DIVISIONS THIS WEEK:<br style="box-sizing: border-box\;" />\nIMCA Modifieds<br style="box-sizing: border-box\;" />\nWISSOTA Street Stocks<br style="box-sizing: border-box\;" />\nINEX Legends<br style="box-sizing: border-box\;" />\nHobby Stocks<br style="box-sizing: border-box\;" />\nIMCA Sport Compacts</p>\n\n<p style="box-sizing: border-box\; margin-top: 0px\; margin-bottom: 1rem\; font-size: 14px\; line-height: 22px\; word-break: break-word\; color: rgb(21\, 21\, 30)\; font-family: Arial\, Helvetica\, sans-serif\;">TIMES:<br style="box-sizing: border-box\;" />\nPit Gates Open: 5:00pm<br style="box-sizing: border-box\;" />\nGrandstands: 6:00pm<br style="box-sizing: border-box\;" />\nDraw Cutoff: 6:15pm<br style="box-sizing: border-box\;" />\nRacing Starts: 7:00pm</p>\n\n<p style="box-sizing: border-box\; margin-top: 0px\; margin-bottom: 1rem\; font-size: 14px\; line-height: 22px\; word-break: break-word\; color: rgb(21\, 21\, 30)\; font-family: Arial\, Helvetica\, sans-serif\;">ORDER OF EVENTS:<br style="box-sizing: border-box\;" />\nHeat Races:<br style="box-sizing: border-box\;" />\nHobby Stocks<br style="box-sizing: border-box\;" />\nIMCA Sport Compacts<br style="box-sizing: border-box\;" />\nINEX Legends<br style="box-sizing: border-box\;" />\nWISSOTA Street Stocks<br style="box-sizing: border-box\;" />\nIMCA Modifieds</p>\n\n<p style="box-sizing: border-box\; margin-top: 0px\; margin-bottom: 1rem\; font-size: 14px\; line-height: 22px\; word-break: break-word\; color: rgb(21\, 21\, 30)\; font-family: Arial\, Helvetica\, sans-serif\;">B-Mains if Needed</p>\n\n<p style="box-sizing: border-box\; margin-top: 0px\; margin-bottom: 1rem\; font-size: 14px\; line-height: 22px\; word-break: break-word\; color: rgb(21\, 21\, 30)\; font-family: Arial\, Helvetica\, sans-serif\;">Features:<br style="box-sizing: border-box\;" />\nHobby Stocks (15 Laps)<br style="box-sizing: border-box\;" />\nIMCA Sport Compacts<br style="box-sizing: border-box\;" />\nINEX Legends (20 Laps)<br style="box-sizing: border-box\;" />\nWISSOTA Street Stocks (20 Laps)<br style="box-sizing: border-box\;" />\nIMCA Modifieds (25 Laps)</p>\n\n<p style="box-sizing: border-box\; margin-top: 0px\; margin-bottom: 1rem\; font-size: 14px\; line-height: 22px\; word-break: break-word\; color: rgb(21\, 21\, 30)\; font-family: Arial\, Helvetica\, sans-serif\;">CAMPING:<br style="box-sizing: border-box\;" />\nMake your camping reservation by calling 701-202-8315.</p>\n
LOCATION:2500 Longspur Trail Mandan\, ND 58554
UID:e.1803.5835
SEQUENCE:3
DTSTAMP:20260425T111953Z
URL:https://business.bismarckmandan.com/events/details/dacotah-speedway-weekly-racing-5835
END:VEVENT

END:VCALENDAR
