BEGIN:VCALENDAR
VERSION:2.0
PRODID:-//ChamberMaster//Event Calendar 2.0//EN
METHOD:PUBLISH
X-PUBLISHED-TTL:P3D
REFRESH-INTERVAL:P3D
CALSCALE:GREGORIAN
BEGIN:VEVENT
DTSTART:20210908T160000Z
DTEND:20210908T170000Z
X-MICROSOFT-CDO-ALLDAYEVENT:FALSE
SUMMARY:Data Analytics in Internal Audit
DESCRIPTION:The information that can be found from analyzed data trends can help you determine where you might be vulnerable or where risks may be hidden. Utilizing data analytics in conjunction with Internal Audit gives your organization point in time response to help mitigate your exposure to risk and improve operational efficiency.
X-ALT-DESC;FMTTYPE=text/html:The information that can be found from analyzed data trends can help you determine where you might be vulnerable or where risks may be hidden. Utilizing data analytics in conjunction with Internal Audit gives your organization point in time response to help mitigate your exposure to risk and improve operational efficiency.
LOCATION:Virtual
UID:e.1803.5223
SEQUENCE:3
DTSTAMP:20260421T143404Z
URL:https://business.bismarckmandan.com/events/details/data-analytics-in-internal-audit-5223
END:VEVENT

END:VCALENDAR
