BEGIN:VCALENDAR
VERSION:2.0
PRODID:-//ChamberMaster//Event Calendar 2.0//EN
METHOD:PUBLISH
X-PUBLISHED-TTL:P3D
REFRESH-INTERVAL:P3D
CALSCALE:GREGORIAN
BEGIN:VEVENT
DTSTART:20260505T133000Z
DTEND:20260505T220000Z
X-MICROSOFT-CDO-ALLDAYEVENT:FALSE
SUMMARY:Employment Law Seminar
DESCRIPTION:Join us for our biennial employment law update! \n\nThis seminar is designed to provide practical guidance on employment law issues that organizations face every day. It would be particularly valuable for:\n\n  Business owners\, executives\, and directors\n\n  HR and talent professionals\n\n  Managers\, supervisors\, and team leads\n\n  Attorneys\, in house counsel\, and compliance professionals\n\nAnyone involved in hiring\, managing\, or terminating employees would benefit from attending. Our attorneys will cover timely employment law topics and provide practical insights that participants can immediately apply within their organizations.
X-ALT-DESC;FMTTYPE=text/html:<div>Join us for our biennial employment law update!&nbsp\;<br />\nThis seminar is designed to provide practical guidance on employment law issues that organizations face every day. It would be particularly valuable for:</div>\n\n<div>&bull\; Business owners\, executives\, and directors<br />\n&bull\; HR and talent professionals<br />\n&bull\; Managers\, supervisors\, and team leads<br />\n&bull\; Attorneys\, in house counsel\, and compliance professionals</div>\n\n<div>Anyone involved in&nbsp\;<strong>hiring\, managing\, or terminating employees</strong>&nbsp\;would benefit from attending. Our attorneys will cover timely employment law topics and provide practical insights that participants can immediately apply within their organizations.<br />\n&nbsp\;</div>\n
LOCATION:North Dakota's Gateway to Science\, 1600 Canary Avenue\, Bismarck\, ND 58501
UID:e.1803.6645
SEQUENCE:3
DTSTAMP:20260424T053113Z
URL:https://business.bismarckmandan.com/events/details/employment-law-seminar-05-04-2026-6645
END:VEVENT

END:VCALENDAR
