BEGIN:VCALENDAR
VERSION:2.0
PRODID:-//ChamberMaster//Event Calendar 2.0//EN
METHOD:PUBLISH
X-PUBLISHED-TTL:P3D
REFRESH-INTERVAL:P3D
CALSCALE:GREGORIAN
BEGIN:VEVENT
DTSTART:20230525T193000Z
DTEND:20230525T203000Z
X-MICROSOFT-CDO-ALLDAYEVENT:FALSE
SUMMARY:Feelings of Depression There is HOPE
DESCRIPTION:Presentation with guest speakers Monique Pederson and Brittany Tofsrud. In person & by Zoom. Call to register for link.
X-ALT-DESC;FMTTYPE=text/html:Presentation with guest speakers Monique Pederson and Brittany Tofsrud. In person &amp\; by Zoom. Call to register for link.
LOCATION:Dakota Center for Independant Living 3111 E Broadway Ave or Zoom
UID:e.1803.5825
SEQUENCE:3
DTSTAMP:20260425T112228Z
URL:https://business.bismarckmandan.com/events/details/feelings-of-depression-there-is-hope-5825
END:VEVENT

END:VCALENDAR
