BEGIN:VCALENDAR
VERSION:2.0
PRODID:-//ChamberMaster//Event Calendar 2.0//EN
METHOD:PUBLISH
X-PUBLISHED-TTL:P3D
REFRESH-INTERVAL:P3D
CALSCALE:GREGORIAN
BEGIN:VEVENT
DTSTART:20230502T000000Z
DTEND:20230502T020000Z
X-MICROSOFT-CDO-ALLDAYEVENT:FALSE
SUMMARY:Foster Care Appreciation Night
DESCRIPTION:All foster parents are invited to a FREE night of fun and bingo!  Foster parents are encouraged to bring someone who has supported them as a foster parent to attend the event! \n\n\n\nEvent will be held at Little Lights Pediatric Therapy and childcare will be provided. \n\n\n\nContact kmiller@littlelightspediatrictherapy.com with any questions.
X-ALT-DESC;FMTTYPE=text/html:All foster parents are invited to a FREE night of fun and bingo!&nbsp\; Foster parents are encouraged to bring someone who has supported them as a foster parent to attend the event!&nbsp\;<br />\n<br />\nEvent will be held at Little Lights Pediatric Therapy and childcare will be provided.&nbsp\;<br />\n<br />\nContact kmiller@littlelightspediatrictherapy.com with any questions.&nbsp\;
LOCATION:Little Lights Pediatric Therapy 1615 Capitol Way Bismarck\, ND 58501
UID:e.1803.5775
SEQUENCE:3
DTSTAMP:20260425T111953Z
URL:https://business.bismarckmandan.com/events/details/foster-care-appreciation-night-5775
END:VEVENT

END:VCALENDAR
