BEGIN:VCALENDAR
VERSION:2.0
PRODID:-//ChamberMaster//Event Calendar 2.0//EN
METHOD:PUBLISH
X-PUBLISHED-TTL:P3D
REFRESH-INTERVAL:P3D
CALSCALE:GREGORIAN
BEGIN:VEVENT
DTSTART:20230504T120000Z
DTEND:20230504T130000Z
X-MICROSOFT-CDO-ALLDAYEVENT:FALSE
SUMMARY:Friends of Scouting Breakfast
DESCRIPTION:Friends of Scouting Breakfast is our Scouting Districts yearly Fundraiser where we invite everyone from the Bismarck/Mandan Community to come enjoy a great breakfast to hear about how Scouting is doing in the Community and how it is benefiting our youth. There will be many young scouts to speak about how Scouting is contributing to their lives and how great of a program it can be.
X-ALT-DESC;FMTTYPE=text/html:Friends of Scouting Breakfast is our Scouting Districts yearly Fundraiser where we invite everyone from the Bismarck/Mandan Community to come enjoy a great breakfast to hear about how Scouting is doing in the Community and how it is benefiting our youth. There will be many young scouts to speak about how Scouting is contributing to their lives and how great of a program it can be.
LOCATION:Lord of Life Lutheran Church
UID:e.1803.5790
SEQUENCE:3
DTSTAMP:20260425T112036Z
URL:https://business.bismarckmandan.com/events/details/friends-of-scouting-breakfast-5790
END:VEVENT

END:VCALENDAR
