BEGIN:VCALENDAR
VERSION:2.0
PRODID:-//ChamberMaster//Event Calendar 2.0//EN
METHOD:PUBLISH
X-PUBLISHED-TTL:P3D
REFRESH-INTERVAL:P3D
CALSCALE:GREGORIAN
BEGIN:VEVENT
DTSTART;VALUE=DATE:20210527
DTEND;VALUE=DATE:20210528
TRANSP:TRANSPARENT
X-MICROSOFT-CDO-ALLDAYEVENT:TRUE
SUMMARY:Furry Friends Rockin Rescue
DESCRIPTION:In honor of National Rescue A Dog day\, 5/20\,21\, we have teamed up with Furry Friends Rockin Rescue. We will be donating a percentage of the day's sales to FFRR.
X-ALT-DESC;FMTTYPE=text/html:In honor of National Rescue A Dog day\, 5/20\,21\, we have teamed up with Furry Friends Rockin Rescue. We will be donating a percentage of the day&#39\;s sales to FFRR.
LOCATION:Station West Bar & Grill 412 West Maine Street Mandan\, ND
UID:e.1803.5151
SEQUENCE:3
DTSTAMP:20260421T113536Z
URL:https://business.bismarckmandan.com/events/details/furry-friends-rockin-rescue-5151
END:VEVENT

END:VCALENDAR
