BEGIN:VCALENDAR
VERSION:2.0
PRODID:-//ChamberMaster//Event Calendar 2.0//EN
METHOD:PUBLISH
X-PUBLISHED-TTL:P3D
REFRESH-INTERVAL:P3D
CALSCALE:GREGORIAN
BEGIN:VEVENT
DTSTART;VALUE=DATE:20240718
DTEND;VALUE=DATE:20240719
TRANSP:TRANSPARENT
X-MICROSOFT-CDO-ALLDAYEVENT:TRUE
SUMMARY:Germans from Russia Heritage Society 53rd Annual International Convention
DESCRIPTION:The Germans from Russia Heritage Society 53rd International Convention will be held at the Baymont Inn & Suites in Mandan\, ND July 17-20\, 2024. Please join in on the fun\, festive gathering of the Germans from Russia community and friends. There will be presentations relating to genealogy and the Germans from Russia heritage including five cooking demonstrations. You can also attend meals\, kuchen breaks\, and the dance! Awards will be given\, a silent auction will be held\, and all new items will be available for sale to raise money for scholarships.
X-ALT-DESC;FMTTYPE=text/html:The Germans from Russia Heritage Society 53rd International Convention will be held at the Baymont Inn &amp\; Suites in Mandan\, ND July 17-20\, 2024. Please join in on the fun\, festive gathering of the Germans from Russia community and friends. There will be presentations relating to genealogy and the Germans from Russia heritage including five cooking demonstrations. You can also attend meals\, kuchen breaks\, and the dance! Awards will be given\, a silent auction will be held\, and all new items will be available for sale to raise money for scholarships.
LOCATION:Baymont Inn & Suites 2611 Old Red Trail NW Mandan\, ND 58554
UID:e.1803.6335
SEQUENCE:3
DTSTAMP:20260419T214740Z
URL:https://business.bismarckmandan.com/events/details/germans-from-russia-heritage-society-53rd-annual-international-convention-6335
END:VEVENT

END:VCALENDAR
