BEGIN:VCALENDAR
VERSION:2.0
PRODID:-//ChamberMaster//Event Calendar 2.0//EN
METHOD:PUBLISH
X-PUBLISHED-TTL:P3D
REFRESH-INTERVAL:P3D
CALSCALE:GREGORIAN
BEGIN:VEVENT
DTSTART:20200817T153000Z
DTEND:20200817T220000Z
X-MICROSOFT-CDO-ALLDAYEVENT:FALSE
SUMMARY:Golf Scramble 2020
DESCRIPTION:The Annual Chamber EDC Scramble presented by Eide Ford Lincoln is scheduled for Monday\, August 17 at Hawktree Golf Club.  Registration starts at 10:30am\, golfing begins at 11:30am. \n\n\n\nRegister you and your team FORE our Chamber EDC Golf Scramble on Monday\, August 17th at Hawktree Golf Club.  There are a limited number of spots available - so don't wait to sign up.  The individual player entry fee is $175 and includes golf fee\, cart\, driving range\, lunch\, dinner and an opportunity to win great door prizes from our sponsors!\n\n\n\nDon't have a team?  No worries!  We have many people signing up that are not part of a team - we'll get you connected with some others for a fun day!\n\n\n\nPresenting Sponsor: Eide Ford-Lincoln\n\nGold Sponsors: Knife River & Petro-Hunt\, LLC\n\nHole Sponsors: Baymont Inn & Suites\, BEK Communications\, Bismarck Cancer Center\, BNC National Bank\, Consolidated Construction\, Dakota Carrier Network\, Dakota Community Bank & Trust\, Eide Bailly\, Eide Ford   Lincoln\, First Western Bank & Trust\, Silver Ranch Development\, an Investcore Company\,  Lewis & Clark Development Group\, New Vision Security\, Petro-Hunt\, Probitas Promotions\, Radisson\, Scheels\, Vogel Law Firm.\n\nDrink Cart Sponsor: RJR Maintenance & Management\n\nPutting Green Sponsor: Vogel Law Firm\n\nDriving Range/Chipping Sponsor: ICON Architecture\n\nTee Prize Sponsor: Amy Hullet   Century 21 Realty
X-ALT-DESC;FMTTYPE=text/html:<span style="font-size:12px\;">The Annual Chamber EDC Scramble presented by Eide Ford Lincoln is scheduled for Monday\, August 17 at Hawktree Golf Club.&nbsp\; Registration starts at 10:30am\, golfing begins at 11:30am.&nbsp\;<br style="box-sizing: content-box\; bottom: auto\; clear: none\; content: normal\; direction: inherit\; display: inline\; empty-cells: show\; float: none\; font-variant-numeric: inherit\; font-variant-east-asian: inherit\; font-stretch: inherit\; font-size: 16px\; font-family: Oxygen\, sans-serif\; left: auto\; line-height: inherit\; margin: 0px\; max-height: none\; max-width: none\; min-height: initial\; min-width: initial\; opacity: 1\; outline-offset: 0px\; overflow: visible\; padding: 0px\; position: static\; resize: none\; right: auto\; table-layout: auto\; text-overflow: clip\; top: auto\; vertical-align: baseline\; visibility: inherit\; word-break: inherit\; overflow-wrap: inherit\; z-index: auto\; background-image: none\; background-position: initial\; background-size: initial\; background-repeat: initial\; background-attachment: initial\; background-origin: initial\; background-clip: initial\; border: none\; border-collapse: separate\; border-radius: 0px\; height: auto\; width: auto\;" />\n<br style="box-sizing: content-box\; bottom: auto\; clear: none\; content: normal\; direction: inherit\; display: inline\; empty-cells: show\; float: none\; font-variant-numeric: inherit\; font-variant-east-asian: inherit\; font-stretch: inherit\; font-size: 16px\; font-family: Oxygen\, sans-serif\; left: auto\; line-height: inherit\; margin: 0px\; max-height: none\; max-width: none\; min-height: initial\; min-width: initial\; opacity: 1\; outline-offset: 0px\; overflow: visible\; padding: 0px\; position: static\; resize: none\; right: auto\; table-layout: auto\; text-overflow: clip\; top: auto\; vertical-align: baseline\; visibility: inherit\; word-break: inherit\; overflow-wrap: inherit\; z-index: auto\; background-image: none\; background-position: initial\; background-size: initial\; background-repeat: initial\; background-attachment: initial\; background-origin: initial\; background-clip: initial\; border: none\; border-collapse: separate\; border-radius: 0px\; height: auto\; width: auto\;" />\nRegister you and your team FORE our Chamber EDC Golf Scramble on Monday\, August 17th at Hawktree Golf Club.&nbsp\; There are a limited number of spots available - so don&#39\;t wait to sign up.&nbsp\; The individual player entry fee is $175 and includes golf fee\, cart\, driving range\, lunch\, dinner and an opportunity to win great door prizes from our sponsors!<br />\n<br />\nDon&#39\;t have a team?&nbsp\; No worries!&nbsp\; We have many people signing up that are not part of a team - we&#39\;ll get you connected with some others for a fun day!<br />\n<br />\n<strong>Presenting Sponsor:</strong> Eide Ford-Lincoln<br />\n<strong>Gold Sponsors:</strong> Knife River &amp\; Petro-Hunt\, LLC<br />\n<strong>Hole Sponsors:</strong> Baymont Inn &amp\; Suites\, BEK Communications\, Bismarck Cancer Center\, BNC National Bank\, Consolidated Construction\, Dakota Carrier Network\, Dakota Community Bank &amp\; Trust\, Eide Bailly\, Eide Ford &ndash\; Lincoln\, First Western Bank &amp\; Trust\, Silver Ranch Development\, an Investcore Company\, &nbsp\;Lewis &amp\; Clark Development Group\, New Vision Security\, Petro-Hunt\, Probitas Promotions\, Radisson\, Scheels\, Vogel Law Firm.<br />\n<strong>Drink Cart Sponsor: </strong>RJR Maintenance &amp\; Management<br />\n<strong>Putting Green Sponsor: </strong>Vogel Law Firm<br />\n<strong>Driving Range/Chipping Sponsor: </strong>ICON Architecture<br />\n<strong>Tee Prize Sponsor:</strong> Amy Hullet &ndash\; Century 21 Realty</span><br />\n&nbsp\;
LOCATION:Hawktree Golf Course 3400 Burnt Creek Loop Bismarck\, ND 58503
UID:e.1803.4623
SEQUENCE:3
DTSTAMP:20260424T150038Z
URL:https://business.bismarckmandan.com/events/details/golf-scramble-2020-4623
END:VEVENT

END:VCALENDAR
