BEGIN:VCALENDAR
VERSION:2.0
PRODID:-//ChamberMaster//Event Calendar 2.0//EN
METHOD:PUBLISH
X-PUBLISHED-TTL:P3D
REFRESH-INTERVAL:P3D
CALSCALE:GREGORIAN
BEGIN:VEVENT
DTSTART:20210506T163000Z
DTEND:20210506T180000Z
X-MICROSOFT-CDO-ALLDAYEVENT:FALSE
SUMMARY:“Hands-On” Grief: Grief Education with an Artistic and Botanical Flair
DESCRIPTION:Research shows intentional hands-on activities help not only to comfort us in our grief\, but also integrate our sense of loss and facilitate moving toward healing. Hospice of the Red River Valley offers a one-session seasonal art planter project accompanied by teaching moments emphasizing change\, growth and hope. This virtual class is free and open to the public. Registration is required by April 22\, so arrangements can be made to pick-up class supplies. In some cases\, the packets/lists may be mailed. https://www.hrrv.org/grief-support/2021-grief-class-registration/
X-ALT-DESC;FMTTYPE=text/html:Research shows intentional hands-on activities help not only to comfort us in our grief\, but also integrate our sense of loss and facilitate moving toward healing. Hospice of the Red River Valley offers a one-session seasonal art planter project accompanied by teaching moments emphasizing change\, growth and hope. This virtual class is free and open to the public. Registration is required by April 22\, so arrangements can be made to pick-up class supplies. In some cases\, the packets/lists may be mailed. https://www.hrrv.org/grief-support/2021-grief-class-registration/
LOCATION:Online/Virtual
UID:e.1803.5098
SEQUENCE:3
DTSTAMP:20260421T113824Z
URL:https://business.bismarckmandan.com/events/details/hands-on-grief-grief-education-with-an-artistic-and-botanical-flair-5098
END:VEVENT

END:VCALENDAR
