BEGIN:VCALENDAR
VERSION:2.0
PRODID:-//ChamberMaster//Event Calendar 2.0//EN
METHOD:PUBLISH
X-PUBLISHED-TTL:P3D
REFRESH-INTERVAL:P3D
CALSCALE:GREGORIAN
BEGIN:VEVENT
DTSTART:20210731T150000Z
DTEND:20210731T200000Z
X-MICROSOFT-CDO-ALLDAYEVENT:FALSE
SUMMARY:Harlow's Car Show
DESCRIPTION:Harlow's School Bus is hosting its first ever car\, truck\, motorcycle and semi show! Join us\, July 31 at our Harlow's Mandan location. Registration is free\, however we ask registered participants bring a school supply for local youth in need. Interested in being an event sponsor? Give us a call at 701-498-3004 for more information. SPACE IS LIMITED - REGISTER TODAY AT WWW.HARLOWSCARSHOW.COM
X-ALT-DESC;FMTTYPE=text/html:Harlow&#39\;s School Bus is hosting its first ever car\, truck\, motorcycle and semi show! Join us\, July 31 at our Harlow&#39\;s Mandan location. Registration is free\, however we ask registered participants bring a school supply for local youth in need. Interested in being an event sponsor? Give us a call at 701-498-3004 for more information. SPACE IS LIMITED - REGISTER TODAY AT WWW.HARLOWSCARSHOW.COM
LOCATION:Harlow's Mandan - 1920 Mandan Ave
UID:e.1803.5084
SEQUENCE:3
DTSTAMP:20260421T113514Z
URL:https://business.bismarckmandan.com/events/details/harlow-s-car-show-5084
END:VEVENT

END:VCALENDAR
