BEGIN:VCALENDAR
VERSION:2.0
PRODID:-//ChamberMaster//Event Calendar 2.0//EN
METHOD:PUBLISH
X-PUBLISHED-TTL:P3D
REFRESH-INTERVAL:P3D
CALSCALE:GREGORIAN
BEGIN:VEVENT
DTSTART:20210714T143000Z
DTEND:20210714T173000Z
X-MICROSOFT-CDO-ALLDAYEVENT:FALSE
SUMMARY:HEALTHIER YOU
DESCRIPTION:Dakota Center for Independent Living is hosting a health fair where the community can come and have their blood pressure taken\, free COVID shot\, learn about assistive technology\, eating well scams several vendors will be available to ask questions to be a healthier you.
X-ALT-DESC;FMTTYPE=text/html:Dakota Center for Independent Living is hosting a health fair where the community can come and have their blood pressure taken\, free COVID shot\, learn about assistive technology\, eating well scams several vendors will be available to ask questions to be a healthier you.
LOCATION:Mandan Senior Center 301 15th St NW Mandan\, ND 58554
UID:e.1803.5167
SEQUENCE:3
DTSTAMP:20260421T113515Z
URL:https://business.bismarckmandan.com/events/details/healthier-you-5167
END:VEVENT

END:VCALENDAR
