BEGIN:VCALENDAR
VERSION:2.0
PRODID:-//ChamberMaster//Event Calendar 2.0//EN
METHOD:PUBLISH
X-PUBLISHED-TTL:P3D
REFRESH-INTERVAL:P3D
CALSCALE:GREGORIAN
BEGIN:VEVENT
DTSTART;VALUE=DATE:20210717
DTEND;VALUE=DATE:20210718
TRANSP:TRANSPARENT
X-MICROSOFT-CDO-ALLDAYEVENT:TRUE
SUMMARY:Honor Flight 1st Annual Charity Golf Scramble
DESCRIPTION:Register your 4 person team or join a team.  $100/ person entry.  Limited to 100 Players. Contact Darcy Rosendal 226-1922  Entries close on July 14th. Prizes for several contests.  Can't join a team?  Consider being a sponsor of a hole!   Greens Fees and Cart include for each team.
X-ALT-DESC;FMTTYPE=text/html:Register your 4 person team or join a team.&nbsp\; $100/ person entry.&nbsp\; Limited to 100 Players. Contact Darcy Rosendal 226-1922&nbsp\; Entries close on July 14th. Prizes for several contests.&nbsp\; Can&#39\;t join a team?&nbsp\; Consider being a sponsor of a hole!&nbsp\; &nbsp\;Greens Fees and Cart include for each team.
LOCATION:Tom O'Leary Golf Course Bismarck ND
UID:e.1803.5117
SEQUENCE:3
DTSTAMP:20260421T113640Z
URL:https://business.bismarckmandan.com/events/details/honor-flight-1st-annual-charity-golf-scramble-5117
END:VEVENT

END:VCALENDAR
