BEGIN:VCALENDAR
VERSION:2.0
PRODID:-//ChamberMaster//Event Calendar 2.0//EN
METHOD:PUBLISH
X-PUBLISHED-TTL:P3D
REFRESH-INTERVAL:P3D
CALSCALE:GREGORIAN
BEGIN:VEVENT
DTSTART:20230510T160000Z
DTEND:20230510T170000Z
X-MICROSOFT-CDO-ALLDAYEVENT:FALSE
SUMMARY:Inspired Perspectives | Is ESOP a Good Fit for Your Organization?
DESCRIPTION:Are you curious about what an ESOP is? Are you perhaps considering an ESOP structure for your business? An employee stock ownership plan (ESOP) is a unique strategy for business owners seeking liquidity and a transition of their ownership. Using an ESOP strategy allows the business owner to sell a fraction amount of the organization to the employees\, either all at once or over time. This increasingly popular succession planning strategy also benefits a company's employee recruiting and retention strategy as well as provides selling shareholder and company tax benefits.\n\nLearning Objectives:\n\n\n	List what makes a good ESOP candidate.\n	Define the ESOP structure and how it works.\n	Identify key benefits and potential challenges of an ESOP.\n	Assess the process of a feasibility study.\n	Discuss next steps to determining if an ESOP is right for you.\n\n\nPresenters:\n\nKirk Lindemann\, CPA\, Partner & ESOP Industry Leader | Eide Bailly\n\nKirk specializes in employee-owned companies\, focusing on ESOP consulting\, tax and accounting services related to ESOPs and 401(k) plans. Kirk also provides audit\, tax\, accounting and business consulting services to a variety of businesses\, including those in the manufacturing\, construction and dealership industries. A firmwide resource on employee-owned companies\, Kirk has spoken at The ESOP Association Midwest annual conference\, the National Center for Employee Ownership (NCEO) annual conference and several local chapter events regarding accounting issues\, ESOPs and employee-owned companies. .\nBart McIlonie\, President & Founder | Atlas Legal Services\, PLLC\n\nBart McIlonie is the lead ESOP attorney and President and Founder of Atlas Legal Services. He has provided business ownership transition and ESOP advisory services for privately held clients throughout his career. Prior to forming Atlas Legal Services\, PLLC\, he was a member and shareholder of a nationally recognized ESOP consulting and law firm. He has represented ESOP plan sponsors and ESOP trustees in transactions establishing ESOPs as well as shareholders selling to an ESOP.\n\n \nCPE Information\n\nCPE Credit: 1\n\nField of Study: Auditing\n\nLevel of Knowledge: Basic\n\nDelivery Method: Group-Internet Based\n\n\n\nAdditional Information: This is a Group-Internet Based Webinar. No prerequisites or advanced preparation required. For information regarding a complaint and/or program cancellation policies\, please contact Amy DeGeorge.
X-ALT-DESC;FMTTYPE=text/html:<p>Are you curious about what an ESOP is? Are you perhaps considering an ESOP structure for your business? An employee stock ownership plan (ESOP) is a unique strategy for business owners seeking liquidity and a transition of their ownership. Using an ESOP strategy allows the business owner to sell a fraction amount of the organization to the employees\, either all at once or over time. This increasingly popular succession planning strategy also benefits a company&#39\;s employee recruiting and retention strategy as well as provides selling shareholder and company tax benefits.</p>\n\n<p><strong>Learning Objectives:</strong></p>\n\n<ul style="list-style-type:none">\n	<li>List what makes a good ESOP candidate.</li>\n	<li>Define the ESOP structure and how it works.</li>\n	<li>Identify key benefits and potential challenges of an ESOP.</li>\n	<li>Assess the process of a feasibility study.</li>\n	<li>Discuss next steps to determining if an ESOP is right for you.</li>\n</ul>\n\n<p><strong>Presenters:</strong></p>\n\n<p><strong><a href="https://www.eidebailly.com/people/42" style="box-sizing: border-box\; background-color: transparent\; color: rgb(10\, 93\, 103)\; padding: 0px 2px\; margin: 0px\;">Kirk Lindemann\, CPA\, Partner &amp\; ESOP Industry Leader | Eide Bailly</a></strong><br />\nKirk specializes in employee-owned companies\, focusing on ESOP consulting\, tax and accounting services related to ESOPs and 401(k) plans. Kirk also provides audit\, tax\, accounting and business consulting services to a variety of businesses\, including those in the manufacturing\, construction and dealership industries. A firmwide resource on employee-owned companies\, Kirk has spoken at The ESOP Association Midwest annual conference\, the National Center for Employee Ownership (NCEO) annual conference and several local chapter events regarding accounting issues\, ESOPs and employee-owned companies. .</p>\n<strong><a href="mailto:bmcilonie@atlasesop.com?subject=Question%20Regarding%20an%20Upcoming%20Eide%20Bailly%20Webinar" style="box-sizing: border-box\; background-color: transparent\; color: rgb(10\, 93\, 103)\; padding: 0px 2px\; margin: 0px\;">Bart McIlonie\, President &amp\; Founder | Atlas Legal Services\, PLLC</a></strong><br />\n<span style="color:rgb(64\, 64\, 64)\; font-family:lato\,sans-serif\; font-size:18px">Bart McIlonie is the lead ESOP attorney and President and Founder of Atlas Legal Services. He has provided business ownership transition and ESOP advisory services for privately held clients throughout his career. Prior to forming Atlas Legal Services\, PLLC\, he was a member and shareholder of a nationally recognized ESOP consulting and law firm. He has represented ESOP plan sponsors and ESOP trustees in transactions establishing ESOPs as well as shareholders selling to an ESOP.</span>\n\n<p>&nbsp\;</p>\n<strong>CPE Information</strong><br />\n<strong>CPE Credit:&nbsp\;</strong><span style="color:rgb(64\, 64\, 64)\; font-family:lato\,sans-serif\; font-size:18px">1</span><br />\n<strong>Field of Study:&nbsp\;</strong><span style="color:rgb(64\, 64\, 64)\; font-family:lato\,sans-serif\; font-size:18px">Auditing</span><br />\n<strong>Level of Knowledge:&nbsp\;</strong><span style="color:rgb(64\, 64\, 64)\; font-family:lato\,sans-serif\; font-size:18px">Basic</span><br />\n<strong>Delivery Method:&nbsp\;</strong><span style="color:rgb(64\, 64\, 64)\; font-family:lato\,sans-serif\; font-size:18px">Group-Internet Based</span><br />\n<br />\n<strong>Additional Information:&nbsp\;</strong><span style="color:rgb(64\, 64\, 64)\; font-family:lato\,sans-serif\; font-size:18px">This is a Group-Internet Based Webinar. No prerequisites or advanced preparation required. For information regarding a complaint and/or program cancellation policies\, please contact&nbsp\;</span><a href="mailto:adegeorge@eidebailly.com?subject=Question%20regarding%20an%20event%20on%20www.eidebailly.com" style="box-sizing: border-box\; background-color: transparent\; color: rgb(10\, 93\, 103)\; padding: 0px 2px\; margin: 0px\; font-family: Lato\, sans-serif\; font-size: 18px\;">Amy DeGeorge</a><span style="color:rgb(64\, 64\, 64)\; font-family:lato\,sans-serif\; font-size:18px">.</span>
LOCATION:Online
UID:e.1803.5809
SEQUENCE:3
DTSTAMP:20260425T112257Z
URL:https://business.bismarckmandan.com/events/details/inspired-perspectives-is-esop-a-good-fit-for-your-organization-5809
END:VEVENT

END:VCALENDAR
