BEGIN:VCALENDAR
VERSION:2.0
PRODID:-//ChamberMaster//Event Calendar 2.0//EN
METHOD:PUBLISH
X-PUBLISHED-TTL:P3D
REFRESH-INTERVAL:P3D
CALSCALE:GREGORIAN
BEGIN:VEVENT
DTSTART:20210501T140000Z
DTEND:20210501T170000Z
X-MICROSOFT-CDO-ALLDAYEVENT:FALSE
SUMMARY:Keep Bismarck Beautiful
DESCRIPTION:Let's clean up Bismarck! Come to the Hillside Aquatic Complex at Lions Park\, 1719 E Boulevard Ave\, May 1 between 9:00 AM and 12:00 PM. We will have areas to assign\, bags\, and safety vests! Please wear long pants and bring gloves. QUESTIONS? Contact bismarckrotary@gmail.com. Community service hours to fill? Bring your paperwork and we will be happy to credit you hours served at this event. SPREAD THE WORD! If you can't make it during this time\, schedule your own clean-up time. We'd love to see your photos\, so be sure to tag Keep Bismarck Beautiful or email them to bismarckrotary@gmail.com.
X-ALT-DESC;FMTTYPE=text/html:Let&#39\;s clean up Bismarck! Come to the Hillside Aquatic Complex at Lions Park\, 1719 E Boulevard Ave\, May 1 between 9:00 AM and 12:00 PM. We will have areas to assign\, bags\, and safety vests! Please wear long pants and bring gloves. QUESTIONS? Contact bismarckrotary@gmail.com. Community service hours to fill? Bring your paperwork and we will be happy to credit you hours served at this event. SPREAD THE WORD! If you can&rsquo\;t make it during this time\, schedule your own clean-up time. We&#39\;d love to see your photos\, so be sure to tag Keep Bismarck Beautiful or email them to bismarckrotary@gmail.com.
LOCATION:Hillside Aquatic Complex at Lions Park\, 1719 E Boulevard Ave\, Bismarck
UID:e.1803.5072
SEQUENCE:3
DTSTAMP:20260421T113401Z
URL:https://business.bismarckmandan.com/events/details/keep-bismarck-beautiful-5072
END:VEVENT

END:VCALENDAR
