BEGIN:VCALENDAR
VERSION:2.0
PRODID:-//ChamberMaster//Event Calendar 2.0//EN
METHOD:PUBLISH
X-PUBLISHED-TTL:P3D
REFRESH-INTERVAL:P3D
CALSCALE:GREGORIAN
BEGIN:VEVENT
DTSTART:20260502T140000Z
DTEND:20260502T170000Z
X-MICROSOFT-CDO-ALLDAYEVENT:FALSE
SUMMARY:Keep Bismarck Beautiful - Community Clean-up Event
DESCRIPTION:Let's clean up Bismarck! May 2\, come to Peace Park by the Parks & Rec office to be assigned an area to clean-up and get your bags and safety vests. Register for door prizes + grab donuts and coffee!
X-ALT-DESC;FMTTYPE=text/html:Let&#39\;s clean up Bismarck! May 2\, come to Peace Park by the Parks &amp\; Rec office to be assigned an area to clean-up and get your bags and safety vests. Register for door prizes + grab donuts and coffee!
LOCATION:Peace Park\, 400 E Front Ave\, Bismarck
UID:e.1803.6686
SEQUENCE:3
DTSTAMP:20260422T012738Z
URL:https://business.bismarckmandan.com/events/details/keep-bismarck-beautiful-community-clean-up-event-05-02-2026-6686
END:VEVENT

END:VCALENDAR
