BEGIN:VCALENDAR
VERSION:2.0
PRODID:-//ChamberMaster//Event Calendar 2.0//EN
METHOD:PUBLISH
X-PUBLISHED-TTL:P3D
REFRESH-INTERVAL:P3D
CALSCALE:GREGORIAN
BEGIN:VEVENT
DTSTART:20211128T200000Z
DTEND:20211128T210000Z
X-MICROSOFT-CDO-ALLDAYEVENT:FALSE
SUMMARY:"Koming to Amerika: An Immigrant's Story" Presentation and Book Signing
DESCRIPTION:Join us for a presentation by Claus Lembke on his book "Koming to Amerika: An Immigrant's Story." Following the presentation will be a book signing along with refreshments. This presentation and book signing event is part of the State Historical Society of North Dakota's Sensational Sundays series. Sensational Sundays are free cultural programs that include a variety of lectures\, concerts\, movies\, and tours.
X-ALT-DESC;FMTTYPE=text/html:Join us for a presentation by Claus Lembke on his book &quot\;Koming to Amerika: An Immigrant&#39\;s Story.&quot\; Following the presentation will be a book signing along with refreshments. This presentation and book signing event is part of the State Historical Society of North Dakota&#39\;s Sensational Sundays series. Sensational Sundays are free cultural programs that include a variety of lectures\, concerts\, movies\, and tours.
LOCATION:North Dakota Heritage Center & State Museum\, 612 E Boulevard Ave\, Bismarck\, ND
UID:e.1803.5320
SEQUENCE:3
DTSTAMP:20260421T192635Z
URL:https://business.bismarckmandan.com/events/details/koming-to-amerika-an-immigrant-s-story-presentation-and-book-signing-5320
END:VEVENT

END:VCALENDAR
