BEGIN:VCALENDAR
VERSION:2.0
PRODID:-//ChamberMaster//Event Calendar 2.0//EN
METHOD:PUBLISH
X-PUBLISHED-TTL:P3D
REFRESH-INTERVAL:P3D
CALSCALE:GREGORIAN
BEGIN:VEVENT
DTSTART:20210526T163000Z
DTEND:20210526T180000Z
X-MICROSOFT-CDO-ALLDAYEVENT:FALSE
SUMMARY:Leadership Bismarck-Mandan Graduation Luncheon
DESCRIPTION:Leadership Bismarck-Mandan\, the program credited with producing some of the area's top leaders\, is winding down and will commence with a graduation ceremony on May 26\, 2021 at the Baymont Inn & Suites.\n\n\n\nLeadership Bismarck-Mandan Class of 2021:\n\nMelissa Barth   Aetna\, a CVS Health Company\n\nSean Cleary   NISC\n\nWeston Dressler   Sanford Health\n\nRich Garman   Great River Energy\n\nJillian Lagasse   Capital Credit Union\n\nAnnique Lockard   Office of Attorney General\n\nAmy Mazigian   Gate City Bank\n\nKari Schmidt   City of Mandan\n\nKatie Schulz   North Dakota Women's Business Center\n\nTina Stanger   University of Mary\n\n\n\nRegistration begins at 11:30am with lunch and the program starting at 12:00pm. You can purchase tickets above or by calling Cathryn at 701-223-5660.\n\n\n\nThe cost to attend is $25.00 per person and includes lunch. Table sponsorship is $275. Register above or by calling Cathryn at 701-223-5660.
X-ALT-DESC;FMTTYPE=text/html:<span style="font-size:14px\;"><span style="font-family: Oxygen\, sans-serif\;">Leadership Bismarck-Mandan\, the program credited with producing some of the area&#39\;s top leaders\, is winding down and will commence with a graduation ceremony on May 26\, 2021 at the Baymont Inn &amp\; Suites.</span><br style="box-sizing: content-box\; bottom: auto\; clear: none\; content: normal\; direction: inherit\; display: inline\; empty-cells: show\; float: none\; font-variant-numeric: inherit\; font-variant-east-asian: inherit\; font-stretch: inherit\; font-size: 16px\; font-family: Oxygen\, sans-serif\; left: auto\; line-height: inherit\; margin: 0px\; max-height: none\; max-width: none\; min-height: initial\; min-width: initial\; opacity: 1\; outline-offset: 0px\; overflow: visible\; padding: 0px\; position: static\; resize: none\; right: auto\; table-layout: auto\; text-overflow: clip\; top: auto\; vertical-align: baseline\; visibility: inherit\; word-break: inherit\; overflow-wrap: inherit\; z-index: auto\; background-image: none\; background-position: initial\; background-size: initial\; background-repeat: initial\; background-attachment: initial\; background-origin: initial\; background-clip: initial\; border: none\; border-collapse: separate\; border-radius: 0px\; height: auto\; width: auto\;" />\n<br />\n<strong>Leadership Bismarck-Mandan Class of 2021:</strong><br />\nMelissa Barth &ndash\; Aetna\, a CVS Health Company<br />\nSean Cleary &ndash\; NISC<br />\nWeston Dressler &ndash\; Sanford Health<br />\nRich Garman &ndash\; Great River Energy<br />\nJillian Lagasse &ndash\; Capital Credit Union<br />\nAnnique Lockard &ndash\; Office of Attorney General<br />\nAmy Mazigian &ndash\; Gate City Bank<br />\nKari Schmidt &ndash\; City of Mandan<br />\nKatie Schulz &ndash\; North Dakota Women&#39\;s Business Center<br />\nTina Stanger &ndash\; University of Mary<br />\n<br style="box-sizing: content-box\; bottom: auto\; clear: none\; content: normal\; direction: inherit\; display: inline\; empty-cells: show\; float: none\; font-variant-numeric: inherit\; font-variant-east-asian: inherit\; font-stretch: inherit\; font-size: 16px\; font-family: Oxygen\, sans-serif\; left: auto\; line-height: inherit\; margin: 0px\; max-height: none\; max-width: none\; min-height: initial\; min-width: initial\; opacity: 1\; outline-offset: 0px\; overflow: visible\; padding: 0px\; position: static\; resize: none\; right: auto\; table-layout: auto\; text-overflow: clip\; top: auto\; vertical-align: baseline\; visibility: inherit\; word-break: inherit\; overflow-wrap: inherit\; z-index: auto\; background-image: none\; background-position: initial\; background-size: initial\; background-repeat: initial\; background-attachment: initial\; background-origin: initial\; background-clip: initial\; border: none\; border-collapse: separate\; border-radius: 0px\; height: auto\; width: auto\;" />\n<span style="font-family: Oxygen\, sans-serif\;">Registration begins at 11:30am with lunch and the program starting at 12:00pm. You can purchase tickets above or by calling Cathryn at 701-223-5660.<br />\n<br />\nThe cost to attend is $25.00 per person and includes lunch. Table sponsorship is $275. Register above or by calling Cathryn at 701-223-5660.</span></span>
LOCATION:Baymont Inn & Suites 2611 Old Red Trail NW\, Mandan
UID:e.1803.5091
SEQUENCE:3
DTSTAMP:20260421T113702Z
URL:https://business.bismarckmandan.com/events/details/leadership-bismarck-mandan-graduation-luncheon-5091
END:VEVENT

END:VCALENDAR
