BEGIN:VCALENDAR
VERSION:2.0
PRODID:-//ChamberMaster//Event Calendar 2.0//EN
METHOD:PUBLISH
X-PUBLISHED-TTL:P3D
REFRESH-INTERVAL:P3D
CALSCALE:GREGORIAN
BEGIN:VEVENT
DTSTART:20230517T163000Z
DTEND:20230517T180000Z
X-MICROSOFT-CDO-ALLDAYEVENT:FALSE
SUMMARY:Leadership Bismarck-Mandan Graduation Luncheon
DESCRIPTION:Leadership Bismarck-Mandan\, the program credited with producing some of the area's top leaders\, is winding down and will commence with a graduation ceremony on May 17\, 2023 in Chick's Place at University of Mary.\n\n\n\nLeadership Bismarck-Mandan Class of 2023:\n\nGabrielle Abouassaly   Sanford Health\n\nSherri Anderson   Starion Bank\n\nNick Guarcello   Security First Bank of North Dakota\n\nCourtney Hamilton   The Title Team\n\nTiffany Hodge   Quills Corporate Consulting\, Inc.\n\nKatie Johnke   Bismarck-Burleigh Public Health\n\nDenae Johnson   KLJ Engineering\n\nKimberly Kuipers   Dakota Eye Institute\n\nDevin Melvie   Legacy Financial Partners\n\nTom Oakland   North Dakota Department of Commerce\n\nGreg Owen   Capital Electric Cooperative\n\nJoseph Rinaldi   Nexstar Media Group - KX News\n\nElliot Rust   Sea Foam International\n\nDestiny Sisk   Touchmark Retirement Community\n\nTeri Sovak   Montana-Dakota Utilities\n\nAndrew Stromme   City of Mandan\n\nMarcus Wagner   University of Mary\n\n\n\n\n\nRegistration begins at 11:30am with lunch and the program starting at 12:00pm. You can purchase tickets above or by calling Cathryn at 701-223-5660.\n\n\n\nThe cost to attend is $35.00 per person and includes lunch. Table sponsorship is $300. Register above or by contacting Cathryn at 701-223-5660.
X-ALT-DESC;FMTTYPE=text/html:<span style="font-size:14px\;"><span style="font-family:arial\;">Leadership Bismarck-Mandan\, the program credited with producing some of the area&#39\;s top leaders\, is winding down and will commence with a graduation ceremony on May 17\, 2023 in Chick&#39\;s Place at University of Mary.<br style="box-sizing: content-box\; bottom: auto\; clear: none\; content: normal\; direction: inherit\; display: inline\; empty-cells: show\; float: none\; font-variant-numeric: inherit\; font-variant-east-asian: inherit\; font-stretch: inherit\; font-size: 16px\; font-family: Oxygen\, sans-serif\; left: auto\; line-height: inherit\; margin: 0px\; max-height: none\; max-width: none\; min-height: initial\; min-width: initial\; opacity: 1\; outline-offset: 0px\; overflow: visible\; padding: 0px\; position: static\; resize: none\; right: auto\; table-layout: auto\; text-overflow: clip\; top: auto\; vertical-align: baseline\; visibility: inherit\; word-break: inherit\; overflow-wrap: inherit\; z-index: auto\; background-image: none\; background-position: initial\; background-size: initial\; background-repeat: initial\; background-attachment: initial\; background-origin: initial\; background-clip: initial\; border: none\; border-collapse: separate\; border-radius: 0px\; height: auto\; width: auto\;" />\n<br />\n<strong>Leadership Bismarck-Mandan Class of 2023:</strong><br />\nGabrielle Abouassaly &ndash\; Sanford Health<br />\nSherri Anderson &ndash\; Starion Bank<br />\nNick Guarcello &ndash\; Security First Bank of North Dakota<br />\nCourtney Hamilton &ndash\; The Title Team<br />\nTiffany Hodge &ndash\; Quills Corporate Consulting\, Inc.<br />\nKatie Johnke &ndash\; Bismarck-Burleigh Public Health<br />\nDenae Johnson &ndash\; KLJ Engineering<br />\nKimberly Kuipers &ndash\; Dakota Eye Institute<br />\nDevin Melvie &ndash\; Legacy Financial Partners<br />\nTom Oakland &ndash\; North Dakota Department of Commerce<br />\nGreg Owen &ndash\; Capital Electric Cooperative<br />\nJoseph Rinaldi &ndash\; Nexstar Media Group - KX News<br />\nElliot Rust &ndash\; Sea Foam International<br />\nDestiny Sisk &ndash\; Touchmark Retirement Community<br />\nTeri Sovak &ndash\; Montana-Dakota Utilities<br />\nAndrew Stromme &ndash\; City of Mandan<br />\nMarcus Wagner &ndash\; University of Mary<br />\n<br />\n<br style="box-sizing: content-box\; bottom: auto\; clear: none\; content: normal\; direction: inherit\; display: inline\; empty-cells: show\; float: none\; font-variant-numeric: inherit\; font-variant-east-asian: inherit\; font-stretch: inherit\; font-size: 16px\; font-family: Oxygen\, sans-serif\; left: auto\; line-height: inherit\; margin: 0px\; max-height: none\; max-width: none\; min-height: initial\; min-width: initial\; opacity: 1\; outline-offset: 0px\; overflow: visible\; padding: 0px\; position: static\; resize: none\; right: auto\; table-layout: auto\; text-overflow: clip\; top: auto\; vertical-align: baseline\; visibility: inherit\; word-break: inherit\; overflow-wrap: inherit\; z-index: auto\; background-image: none\; background-position: initial\; background-size: initial\; background-repeat: initial\; background-attachment: initial\; background-origin: initial\; background-clip: initial\; border: none\; border-collapse: separate\; border-radius: 0px\; height: auto\; width: auto\;" />\nRegistration begins at 11:30am with lunch and the program starting at 12:00pm. You can purchase tickets above or by calling Cathryn at 701-223-5660.<br />\n<br />\nThe cost to attend is $35.00 per person and includes lunch. Table sponsorship is $300. Register above or by contacting <strong><a href="mailto:cathryn@bmcedc.com">Cathryn </a></strong>at 701-223-5660.</span></span>
LOCATION:Chick's Place within Lumen Vitae University of Mary 7500 University Dr. Bismarck
UID:e.1803.5779
SEQUENCE:3
DTSTAMP:20260425T112140Z
URL:https://business.bismarckmandan.com/events/details/leadership-bismarck-mandan-graduation-luncheon-5779
END:VEVENT

END:VCALENDAR
