BEGIN:VCALENDAR
VERSION:2.0
PRODID:-//ChamberMaster//Event Calendar 2.0//EN
METHOD:PUBLISH
X-PUBLISHED-TTL:P3D
REFRESH-INTERVAL:P3D
CALSCALE:GREGORIAN
BEGIN:VEVENT
DTSTART:20240508T140000Z
DTEND:20240508T170000Z
X-MICROSOFT-CDO-ALLDAYEVENT:FALSE
SUMMARY:Leadership Bismarck-Mandan Project Presentations
DESCRIPTION:Each year the Leadership Bismarck-Mandan class breaks into several groups to work on a field project addressing community needs. The class will be presenting this projects Wednesday\, May 8th at the Bismarck Mandan Chamber EDC.\n\n\n\n9-9:45 a.m.   Wellness Trail\n\nThe goal of the project is to cultivate and enhance a wellness trail for the public at the Bismarck State College campus.  \n\nNicole Garrett\n\nKent Kaylor\n\nCarrie Meyer\n\nGrace Renner\n\n\n\n10-10:45 a.m.   Student Career Expo\n\nStudent Career Expo is designed to guide N.D. high school students through potential career paths. The expo will provide a platform for local industries to showcase their fields and opportunities to the next generation of workers.\n\nKevin Allan\n\nTiffany Eckroth\n\nKasey Janz\n\nKevin Klemisch\n\nJared Mack\n\nMicaela Ranisate\n\n\n\n11-11:45 a.m.   Childcare Needs Assessment\n\nThis project will conduct a childcare needs assessment for the Bismarck-Mandan community. One survey will target organizational leaders/corporate staff\; the other survey will target employees.\n\nJoshua Baker\n\nTravis Dahl\n\nJared Huibregtse\n\nJessica Tooke
X-ALT-DESC;FMTTYPE=text/html:Each year the Leadership Bismarck-Mandan class breaks into several groups to work on a field project addressing community needs. The class will be presenting this projects Wednesday\, May 8th at the Bismarck Mandan Chamber EDC.<br />\n<br />\n<strong>9-9:45 a.m. &ndash\; Wellness Trail</strong><br />\nThe goal of the project is to cultivate and enhance a wellness trail for the public at the Bismarck State College campus. &nbsp\;<br />\nNicole Garrett<br />\nKent Kaylor<br />\nCarrie Meyer<br />\nGrace Renner<br />\n<br />\n<strong>10-10:45 a.m. &ndash\; Student Career Expo</strong><br />\nStudent Career Expo is designed to guide N.D. high school students through potential career paths. The expo will provide a platform for local industries to showcase their fields and opportunities to the next generation of workers.<br />\nKevin Allan<br />\nTiffany Eckroth<br />\nKasey Janz<br />\nKevin Klemisch<br />\nJared Mack<br />\nMicaela Ranisate<br />\n<br />\n<strong>11-11:45 a.m. &ndash\; Childcare Needs Assessment</strong><br />\nThis project will conduct a childcare needs assessment for the Bismarck-Mandan community. One survey will target organizational leaders/corporate staff\; the other survey will target employees.<br />\nJoshua Baker<br />\nTravis Dahl<br />\nJared Huibregtse<br />\nJessica Tooke<br />\n&nbsp\;
LOCATION:Bismarck Mandan Chamber EDC 1640 Burnt Boat Drive
UID:e.1803.6262
SEQUENCE:3
DTSTAMP:20260421T125927Z
URL:https://business.bismarckmandan.com/events/details/leadership-bismarck-mandan-project-presentations-6262
END:VEVENT

END:VCALENDAR
