BEGIN:VCALENDAR
VERSION:2.0
PRODID:-//ChamberMaster//Event Calendar 2.0//EN
METHOD:PUBLISH
X-PUBLISHED-TTL:P3D
REFRESH-INTERVAL:P3D
CALSCALE:GREGORIAN
BEGIN:VEVENT
DTSTART:20260506T140000Z
DTEND:20260506T164500Z
X-MICROSOFT-CDO-ALLDAYEVENT:FALSE
SUMMARY:Leadership Bismarck Mandan Project Presentations
DESCRIPTION:Leadership Bismarck Mandan Class Project Presentations\n\nJoin us as the 2026 Leadership Bismarck Mandan cohort presents their class projects on May 6 from 9:00 AM   11:45 AM. This is a great opportunity to see the impact of this year's class and learn more about the projects they've been working on.\n\nPresentation Schedule:\n\n\n	Downtown Beautification Project | 9:00   9:45 AM\n	Sibley Park Trees Project | 10:00   10:45 AM\n	The Leadership Institute | 11:00   11:45 AM\n\n\nWe hope to see you there!
X-ALT-DESC;FMTTYPE=text/html:<p data-end="163" data-start="103"><strong data-end="161" data-start="103">Leadership Bismarck Mandan Class Project Presentations</strong></p>\n\n<p data-end="440" data-start="165">Join us as the 2026 Leadership Bismarck Mandan cohort presents their class projects on <strong data-end="290" data-start="257">May 6 from 9:00 AM &ndash\; 11:45 AM</strong>. This is a great opportunity to see the impact of this year&rsquo\;s class and learn more about the projects they&rsquo\;ve been working on.</p>\n\n<p data-end="579" data-start="551"><strong data-end="577" data-start="551">Presentation Schedule:</strong></p>\n\n<ul data-end="737" data-start="580">\n	<li data-end="636" data-section-id="1h5xwgg" data-start="580"><strong data-end="617" data-start="582">Downtown Beautification Project</strong> | 9:00 &ndash\; 9:45 AM</li>\n	<li data-end="689" data-section-id="p2jy22" data-start="637"><strong data-end="668" data-start="639">Sibley Park Trees Project</strong> | 10:00 &ndash\; 10:45 AM</li>\n	<li data-end="737" data-section-id="krv4cq" data-start="690"><strong data-end="716" data-start="692">The Leadership Institute</strong> | 11:00 &ndash\; 11:45 AM</li>\n</ul>\n\n<p data-end="764" data-start="739">We hope to see you there!</p>\n
LOCATION:Bismarck Mandan Chamber EDC 1640 Burnt Boat Rd\, Bismarck\, ND 58503
UID:e.1803.6687
SEQUENCE:3
DTSTAMP:20260424T091510Z
URL:https://business.bismarckmandan.com/events/details/leadership-bismarck-mandan-project-presentations-6687
END:VEVENT

END:VCALENDAR
