BEGIN:VCALENDAR
VERSION:2.0
PRODID:-//ChamberMaster//Event Calendar 2.0//EN
METHOD:PUBLISH
X-PUBLISHED-TTL:P3D
REFRESH-INTERVAL:P3D
CALSCALE:GREGORIAN
BEGIN:VEVENT
DTSTART:20210508T180000Z
DTEND:20210508T200000Z
X-MICROSOFT-CDO-ALLDAYEVENT:FALSE
SUMMARY:Lemonade Day Kick Off Event
DESCRIPTION:Parents\, mentors\, teachers and youth leaders are encouraged to register their youth online at https://lemonadeday.org/bismarck-mandan or to attend our Lemonade Day Bismarck-Mandan Kickoff Event to learn more about the program and play some fun lemon-y games.
X-ALT-DESC;FMTTYPE=text/html:Parents\, mentors\, teachers and youth leaders are encouraged to register their youth online at&nbsp\;<a href="https://lemonadeday.org/bismarck-mandan">https://lemonadeday.org/bismarck-mandan</a> or to attend our Lemonade Day Bismarck-Mandan Kickoff Event to learn more about the program and play some fun lemon-y games.
LOCATION:Dakota Zoo 602 Riverside Park Rd\, Bismarck
UID:e.1803.5032
SEQUENCE:3
DTSTAMP:20260421T113524Z
URL:https://business.bismarckmandan.com/events/details/lemonade-day-kick-off-event-5032
END:VEVENT

END:VCALENDAR
