BEGIN:VCALENDAR
VERSION:2.0
PRODID:-//ChamberMaster//Event Calendar 2.0//EN
METHOD:PUBLISH
X-PUBLISHED-TTL:P3D
REFRESH-INTERVAL:P3D
CALSCALE:GREGORIAN
BEGIN:VEVENT
DTSTART:20210914T160000Z
DTEND:20210914T170000Z
X-MICROSOFT-CDO-ALLDAYEVENT:FALSE
SUMMARY:License and Royalty Compliance
DESCRIPTION:It's been found that 75%-85% of licensees have errors in their royalty reporting\, and 89% of license agreements are underpaid. It is important that your revenue calculations are regularly examined to ensure consistency with your agreements and to check for completeness and accuracy. Join us for a webinar to discuss the benefits and process of a license\, royalty or franchise audit.
X-ALT-DESC;FMTTYPE=text/html:It&rsquo\;s been found that 75%-85% of licensees have errors in their royalty reporting\, and 89% of license agreements are underpaid. It is important that your revenue calculations are regularly examined to ensure consistency with your agreements and to check for completeness and accuracy. Join us for a webinar to discuss the benefits and process of a license\, royalty or franchise audit.
LOCATION:Virtual
UID:e.1803.5225
SEQUENCE:3
DTSTAMP:20260421T143801Z
URL:https://business.bismarckmandan.com/events/details/license-and-royalty-compliance-5225
END:VEVENT

END:VCALENDAR
