BEGIN:VCALENDAR
VERSION:2.0
PRODID:-//ChamberMaster//Event Calendar 2.0//EN
METHOD:PUBLISH
X-PUBLISHED-TTL:P3D
REFRESH-INTERVAL:P3D
CALSCALE:GREGORIAN
BEGIN:VEVENT
DTSTART:20210923T130000Z
DTEND:20210924T010000Z
X-MICROSOFT-CDO-ALLDAYEVENT:FALSE
SUMMARY:Little Black Dress Campaign
DESCRIPTION:What is the Little Black Dress Campaign? The week of September 20-23\, Women United and friends lead a poverty awareness campaign\, Little Black Dress\, with more than two hundred women each wearing a black dress or outfit for four days\, along with a goal to raise $500 each and a team goal of $1\,500. The funds raised are used to fund the education initiative of the United Way and focused on keeping families in their homes\, making sure kids are able to get to school and learn\, as well as finding mentors for these students.
X-ALT-DESC;FMTTYPE=text/html:What is the Little Black Dress Campaign? The week of September 20-23\, Women United and friends lead a poverty awareness campaign\, Little Black Dress\, with more than two hundred women each wearing a black dress or outfit for four days\, along with a goal to raise $500 each and a team goal of $1\,500. The funds raised are used to fund the education initiative of the United Way and focused on keeping families in their homes\, making sure kids are able to get to school and learn\, as well as finding mentors for these students.
LOCATION:
UID:e.1803.5142
SEQUENCE:3
DTSTAMP:20260421T143908Z
URL:https://business.bismarckmandan.com/events/details/little-black-dress-campaign-5142
END:VEVENT

END:VCALENDAR
