BEGIN:VCALENDAR
VERSION:2.0
PRODID:-//ChamberMaster//Event Calendar 2.0//EN
METHOD:PUBLISH
X-PUBLISHED-TTL:P3D
REFRESH-INTERVAL:P3D
CALSCALE:GREGORIAN
BEGIN:VEVENT
DTSTART:20240518T160000Z
DTEND:20240518T163000Z
X-MICROSOFT-CDO-ALLDAYEVENT:FALSE
SUMMARY:Little Kids\, Big World: Flowerpots
DESCRIPTION:Listen to a story about flowers and decorate your own flowerpot to take home. Toddlers and preschoolers are invited to the free interactive learning series "Little Kids\, Big World" at the North Dakota Heritage Center & State Museum in Bismarck. These interactive 30-minute programs introduce children to North Dakota's fascinating history. Children and their accompanying adult(s) are asked to meet at the west entrance information desk. For more information\, contact Education and Engagement Manager Laura Forde\, shsprograms@nd.gov or 701.328.2792.
X-ALT-DESC;FMTTYPE=text/html:Listen to a story about flowers and decorate your own flowerpot to take home. Toddlers and preschoolers are invited to the free interactive learning series &quot\;Little Kids\, Big World&quot\; at the North Dakota Heritage Center &amp\; State Museum in Bismarck. These interactive 30-minute programs introduce children to North Dakota&rsquo\;s fascinating history. Children and their accompanying adult(s) are asked to meet at the west entrance information desk. For more information\, contact Education and Engagement Manager Laura Forde\, shsprograms@nd.gov or 701.328.2792.
LOCATION:North Dakota Heritage Center & State Museum\, 612 E Boulevard Ave\, Bismarck\, ND 58505
UID:e.1803.6330
SEQUENCE:3
DTSTAMP:20260421T130500Z
URL:https://business.bismarckmandan.com/events/details/little-kids-big-world-flowerpots-05-18-2024-6330
END:VEVENT

END:VCALENDAR
